BEGIN:VCALENDAR
VERSION:2.0
PRODID:-//Familienwohnzimmer - ECPv6.14.2//NONSGML v1.0//EN
CALSCALE:GREGORIAN
METHOD:PUBLISH
X-ORIGINAL-URL:https://www.familienwohnzimmer.at
X-WR-CALDESC:Veranstaltungen für Familienwohnzimmer
REFRESH-INTERVAL;VALUE=DURATION:PT1H
X-Robots-Tag:noindex
X-PUBLISHED-TTL:PT1H
BEGIN:VTIMEZONE
TZID:Europe/Berlin
BEGIN:DAYLIGHT
TZOFFSETFROM:+0100
TZOFFSETTO:+0200
TZNAME:CEST
DTSTART:20230326T010000
END:DAYLIGHT
BEGIN:STANDARD
TZOFFSETFROM:+0200
TZOFFSETTO:+0100
TZNAME:CET
DTSTART:20231029T010000
END:STANDARD
END:VTIMEZONE
BEGIN:VEVENT
DTSTART;TZID=Europe/Berlin:20230403T150000
DTEND;TZID=Europe/Berlin:20230403T170000
DTSTAMP:20260419T142706
CREATED:20220908T141700Z
LAST-MODIFIED:20220908T141700Z
UID:10000103-1680534000-1680541200@www.familienwohnzimmer.at
SUMMARY:Bastelnachmittag
DESCRIPTION:Wir basteln Allerlei zum Thema Ostern. \nAnmeldung unter fawozi@isgs.at oder 0650/ 69 05 694
URL:https://www.familienwohnzimmer.at/event/bastelnachmittag-3/
LOCATION:FamilienWohnZimmer\, Grazer Straße 3\, Kapfenberg\, Steiermark\, 8605\, Österreich
ORGANIZER;CN="FamilienWohnZimmer":MAILTO:fawozi@isgs.at
END:VEVENT
BEGIN:VEVENT
DTSTART;TZID=Europe/Berlin:20230406T150000
DTEND;TZID=Europe/Berlin:20230406T170000
DTSTAMP:20260419T142706
CREATED:20230109T132349Z
LAST-MODIFIED:20230109T132349Z
UID:10000120-1680793200-1680800400@www.familienwohnzimmer.at
SUMMARY:Papa* Cafe´ - gemütliche (Spiel)Zeit mit deinem Kind
DESCRIPTION:OFFENER TREFFPUNKT \n\n\n\n\n\n\n\n\n\n\n\n\n\n\n\n\nJeden ersten Donnerstag im Monat findet in der offenen Spielgruppe das Papa*Cafe statt. Hier hast du die Möglichkeit Zeit mit deinem Kind zu verbringen und dich mit anderen Papas* bei einem gemütlichen Kaffee auszutauschen. \nMeist tun sich als frischgebackener Papa* von Babys oder Kleinkindern viele Fragen auf. Job\, Partner:in und Kind(er) – wie bringe ich alles unter einen Hut? Wie kann ich meine Partnerin nach der Geburt und im Alltag mit Kleinkind gut unterstützen? Wie kann ich ein guter Papa* sein? Worauf kommt es in der Erziehung an? Was will ich meinem Kind und meiner Familie mitgeben und bieten? U.v.m. \nUnterstützt wird das Team des Familienwohnzimmers im Papa*Cafe von einem Experten vom Verein für Männer- und Geschlechterthemen\, der mit euch gemeinsam Antworten auf all eure Fragen finden wird. \nKostenlos! Ohne Anmeldung! \n\n\n\n\n\n\n\n\n\n\n\n\n\n\n\n\nDiese Veranstaltung ist für das MamaPapa-Ticket einlösbar!
URL:https://www.familienwohnzimmer.at/event/papa-cafe-gemuetliche-spielzeit-mit-deinem-kind-3/
LOCATION:FamilienWohnZimmer\, Grazer Straße 3\, Kapfenberg\, Steiermark\, 8605\, Österreich
ATTACH;FMTTYPE=image/png:https://www.familienwohnzimmer.at/wp-content/uploads/2018/01/mpt_logo_fin-02-e1516798111267.png
ORGANIZER;CN="FamilienWohnZimmer":MAILTO:fawozi@isgs.at
END:VEVENT
BEGIN:VEVENT
DTSTART;TZID=Europe/Berlin:20230413T200000
DTEND;TZID=Europe/Berlin:20230413T213000
DTSTAMP:20260419T142706
CREATED:20221214T144343Z
LAST-MODIFIED:20221214T144343Z
UID:10000116-1681416000-1681421400@www.familienwohnzimmer.at
SUMMARY:Starre Geschlechterrollen – Schnee von gestern!
DESCRIPTION:ONLINE-Vortrag  \n\n\n\n\n\n\n\n\n\n\n\n\n\n\n\n\nKinder versuchen von klein auf aktiv ihren Platz in ihrer Lebenswelt zu finden – starre Geschlechterrollen engen dabei die kindlichen Entwicklungsmöglichkeiten ein. Dieser Vortrag lädt dazu ein\, den Blick auf einengende Rollenklischees zu werfen. Wie kannst du dein Kind abseits von der typischen Geschlechterrolle in seiner freien Entfaltung und seinem Selbstbewusstsein stärken? \n\n\n\n\n\n\n\n\n\n\n\n\n\n\n\n\nEinstieg mit zoom.us/join\nMeeting-ID: 582 280 9286 \nKostenlos! Ohne Anmeldung! \nDiese Online-Veranstaltung ist für das MamaPapa-Ticket einlösbar!
URL:https://www.familienwohnzimmer.at/event/starre-geschlechterrollen-schnee-von-gestern/
LOCATION:ONLINE Veranstaltung auf Zoom\, Österreich
ATTACH;FMTTYPE=image/png:https://www.familienwohnzimmer.at/wp-content/uploads/2018/01/mpt_logo_fin-02-e1516798111267.png
END:VEVENT
BEGIN:VEVENT
DTSTART;TZID=Europe/Berlin:20230420T180000
DTEND;TZID=Europe/Berlin:20230420T193000
DTSTAMP:20260419T142706
CREATED:20200207T111001Z
LAST-MODIFIED:20230323T151532Z
UID:10000065-1682013600-1682019000@www.familienwohnzimmer.at
SUMMARY:Grenzen setzen - sich abgrenzen können
DESCRIPTION:Vortrag \nDie ersten drei Jahre sind sehr wichtig für die Entwicklung deines Kindes. Es braucht in erster Linie deine Zuwendung und Liebe – aber sollst du deinem Kind auch schon Grenzen setzen\, und wenn ja\, wie? \nIn diesem Vortrag erfährst du \n\nwarum Grenzen wichtig sind\,\nwelche Grenzen Kleinkinder für eine gesunde Entwicklung brauchen\,\nwann Grenzen gesetzt werden sollen.\n\nNeben den theoretischen Inhalten gibt es genügend Zeit\, um Fragen zu stellen. \nDieser Elterntreff ist für das MamaPapa-Ticket einlösbar!
URL:https://www.familienwohnzimmer.at/event/grenzen-abgrenzen/
LOCATION:FamilienWohnZimmer\, Grazer Straße 3\, Kapfenberg\, Steiermark\, 8605\, Österreich
ATTACH;FMTTYPE=image/png:https://www.familienwohnzimmer.at/wp-content/uploads/2018/01/mpt_logo_fin-02-e1516798111267.png
ORGANIZER;CN="FamilienWohnZimmer":MAILTO:fawozi@isgs.at
END:VEVENT
BEGIN:VEVENT
DTSTART;TZID=Europe/Berlin:20230426T200000
DTEND;TZID=Europe/Berlin:20230426T213000
DTSTAMP:20260419T142706
CREATED:20221207T155332Z
LAST-MODIFIED:20221213T105528Z
UID:10000024-1682539200-1682544600@www.familienwohnzimmer.at
SUMMARY:Abends immer das gleiche Theater
DESCRIPTION:ONLINE-Vortrag                                                                                                                                                           \n\n\n\n\n\n\n\n\n\n\n\n\n\n\n\n\nKindernächte sind herausfordernde Nächte. Warum wachen Kinder nachts häufig auf? Wieso fällt es meinem Kind so schwer ein- und durchzuschlafen? Dieser Abend bietet einen Überblick über die kindliche Schlafentwicklung. Du bekommst Tipps\, um Babys und Kleinkinder ihren Bedürfnissen entsprechend gut in den Schlaf und durch die Nacht zu begleiten. \n\n\n\n\n\n\n\n\n\n\n\n\n\n\n\n\nEinstieg mit zoom.us/join\nMeeting-ID: 582 280 9286 \nKostenlos! Ohne Anmeldung! \nDiese Online-Veranstaltung ist für das MamaPapa-Ticket einlösbar!
URL:https://www.familienwohnzimmer.at/event/abends-immer-das-gleiche-theater-online/
LOCATION:ONLINE Veranstaltung auf Zoom\, Österreich
ATTACH;FMTTYPE=image/png:https://www.familienwohnzimmer.at/wp-content/uploads/2018/01/mpt_logo_fin-02-e1516798111267.png
ORGANIZER;CN="FamilienWohnZimmer":MAILTO:fawozi@isgs.at
END:VEVENT
END:VCALENDAR