BEGIN:VCALENDAR
VERSION:2.0
PRODID:-//Familienwohnzimmer - ECPv6.14.2//NONSGML v1.0//EN
CALSCALE:GREGORIAN
METHOD:PUBLISH
X-ORIGINAL-URL:https://www.familienwohnzimmer.at
X-WR-CALDESC:Veranstaltungen für Familienwohnzimmer
REFRESH-INTERVAL;VALUE=DURATION:PT1H
X-Robots-Tag:noindex
X-PUBLISHED-TTL:PT1H
BEGIN:VTIMEZONE
TZID:Europe/Berlin
BEGIN:DAYLIGHT
TZOFFSETFROM:+0100
TZOFFSETTO:+0200
TZNAME:CEST
DTSTART:20250330T010000
END:DAYLIGHT
BEGIN:STANDARD
TZOFFSETFROM:+0200
TZOFFSETTO:+0100
TZNAME:CET
DTSTART:20251026T010000
END:STANDARD
END:VTIMEZONE
BEGIN:VEVENT
DTSTART;TZID=Europe/Berlin:20250305T140000
DTEND;TZID=Europe/Berlin:20250305T160000
DTSTAMP:20260419T191647
CREATED:20250206T082546Z
LAST-MODIFIED:20250206T142700Z
UID:10000297-1741183200-1741190400@www.familienwohnzimmer.at
SUMMARY:ELTERNSEMINAR: Entdecke die Welt der Babyzeichensprache
DESCRIPTION:Hast du dich immer schon gefragt\, was dir dein Baby sagen möchte? Die ersten Monate und Jahre sind eine aufregende Zeit\, in der dein kleines Wunder viele Bedürfnisse und Gefühle hat\, die es noch nicht verbal ausdrücken kann.\nMit der Babyzeichensprache kannst du deinem Baby helfen\, sich schon früh mitzuteilen! Stell dir vor\, dein Baby kann dir mit einfachen Gesten zeigen\, ob es hungrig ist\, müde oder einfach nur spielen möchte. Das stärkt nicht nur die Bindung zwischen euch\, sondern reduziert auch Frustration und Missverständnisse.\n\nIm Elternseminar zur Babyzeichensprache lernst du\, wie du die Kommunikation mit deinem Kind auf eine neue Ebene heben kannst. \nWas erwartet Dich? \n\n\nGrundlagen Babyzeichensprache: Was ist das und wie funktioniert es?\nPraktische Übungen: Lerne deine ersten individuellen 20 Zeichen\, die du im Alltag nutzen kannst.\nErfahre\, wie Babyzeichensprache die Sprachentwicklung fördert.\nTipps für den Alltag: Wie integrierst du die Zeichen in deinen täglichen Ablauf?\nFragen und Antworten: Nutze die Gelegenheit um individuelle Fragen zu stellen.\n\n\n\n\n\nMelde dich jetzt an und gib deinem Baby die Möglichkeit\, sich schon früh auszudrücken!\n\nKosten: € 10\,- pro Familie\nAnmeldung unter 0677 62421897  \n 
URL:https://www.familienwohnzimmer.at/event/babyzeichen/2025-03-05/
LOCATION:FamilienWohnZimmer\, Grazer Straße 3\, Kapfenberg\, Steiermark\, 8605\, Österreich
ATTACH;FMTTYPE=image/jpeg:https://www.familienwohnzimmer.at/wp-content/uploads/2024/07/VAvorschau_Babyzeichen_AdobeStock_79304318.jpg
ORGANIZER;CN="FamilienWohnZimmer":MAILTO:fawozi@isgs.at
END:VEVENT
BEGIN:VEVENT
DTSTART;TZID=Europe/Berlin:20250306T140000
DTEND;TZID=Europe/Berlin:20250306T170000
DTSTAMP:20260419T191647
CREATED:20240725T092126Z
LAST-MODIFIED:20250206T083730Z
UID:10000231-1741269600-1741280400@www.familienwohnzimmer.at
SUMMARY:offene Spielgruppe für Kinder von 0-6 Jahren
DESCRIPTION:Groß & Klein hat´s bei uns fein! Kinder jeden Alters erobern den Indoor Spielplatz\, während sich die Großen bei einem Kaffee unterhalten. Es kann gemalt und gebastelt werden und du kannst kommen und gehen\, wie du magst. \nKostenlos\nohne Anmeldung
URL:https://www.familienwohnzimmer.at/event/offene-spielgruppe-fuer-kinder-von-0-6-jahren/2025-03-06/
LOCATION:FamilienWohnZimmer\, Grazer Straße 3\, Kapfenberg\, Steiermark\, 8605\, Österreich
ATTACH;FMTTYPE=image/jpeg:https://www.familienwohnzimmer.at/wp-content/uploads/2024/07/vavorschau_Osg_AdobeStock_442336413.jpg
ORGANIZER;CN="FamilienWohnZimmer":MAILTO:fawozi@isgs.at
END:VEVENT
BEGIN:VEVENT
DTSTART;TZID=Europe/Berlin:20250308T090000
DTEND;TZID=Europe/Berlin:20250308T110000
DTSTAMP:20260419T191647
CREATED:20231221T094700Z
LAST-MODIFIED:20240814T144956Z
UID:10000180-1741424400-1741431600@www.familienwohnzimmer.at
SUMMARY:Papa* Café - gemütliche (Spiel)Zeit mit deinem Kind
DESCRIPTION:Alle Papas & Opas aufgepasst! Spielen\, bauen\, aktiv oder gemütlich sein\, alleine oder in der Gruppe – im größten Wohnzimmer Kapfenbergs. Das Papa*-Café bietet allen Papas/Opas einen freien Treffpunkt unter sich\, um Kontakte mit Gleichgesinnten knüpfen zu können und Erfahrungen auszutauschen. \n€ 3\,- pro Erwachsenem inkl. 1 Kaffee\nohne Anmeldung
URL:https://www.familienwohnzimmer.at/event/papa-cafe-gemuetliche-spielzeit-mit-deinem-kind-8/2025-03-08/
LOCATION:FamilienWohnZimmer\, Grazer Straße 3\, Kapfenberg\, Steiermark\, 8605\, Österreich
ATTACH;FMTTYPE=image/jpeg:https://www.familienwohnzimmer.at/wp-content/uploads/2023/01/AdobeStock_260355791-scaled.jpg
ORGANIZER;CN="FamilienWohnZimmer":MAILTO:fawozi@isgs.at
END:VEVENT
BEGIN:VEVENT
DTSTART;TZID=Europe/Berlin:20250310T160000
DTEND;TZID=Europe/Berlin:20250310T170000
DTSTAMP:20260419T191647
CREATED:20250206T083358Z
LAST-MODIFIED:20250206T143144Z
UID:10000299-1741622400-1741626000@www.familienwohnzimmer.at
SUMMARY:Familienyoga - Eine Reise in die Welt der Yogatiere
DESCRIPTION:Beim Kinderyoga werden Kinder spielerisch an die Yogaübungen herangeführt. Es geht dabei nicht um die korrekte Haltung der Pose\, sondern um Selbsterfahrung und Spaß an Bewegung für Kinder von 3 bis 6 Jahren. \nKosten: € 65\,- für 5 Einheiten (10.3.2025 – 7.4.2025) \nAnmeldung unter 0680 2009973 oder k.kienesberger@hiway.at \n 
URL:https://www.familienwohnzimmer.at/event/familienyoga/2025-03-10/
LOCATION:FamilienWohnZimmer\, Grazer Straße 3\, Kapfenberg\, Steiermark\, 8605\, Österreich
ATTACH;FMTTYPE=image/jpeg:https://www.familienwohnzimmer.at/wp-content/uploads/2025/02/vavorschau_Familienyoga_AdobeStock_210187231.jpg
END:VEVENT
BEGIN:VEVENT
DTSTART;TZID=Europe/Berlin:20250312T190000
DTEND;TZID=Europe/Berlin:20250312T203000
DTSTAMP:20260419T191647
CREATED:20250206T081215Z
LAST-MODIFIED:20250206T143414Z
UID:10000295-1741806000-1741811400@www.familienwohnzimmer.at
SUMMARY:Gewaltfreie Kommunikation - Emotionale Kraftquellen in Eltern erschließen
DESCRIPTION:Wie kann ich Konflikte ruhig und liebevoll lösen? Lerne in diesem Vortrag klar und einfühlsam zu sprechen\, um Missverständnisse zu vermeiden und die Verbindung zu deinem Kind zu stärken.\n \nOnline-Vortrag\, Zoom-Link: https://us02web.zoom.us/j/5822809286\nKostenlos \nDiese Veranstaltung wird als Fortbildung für Kindergartenpädagog*innen\nund Kinderbetreuer*innen im Sinne des steiermärkischen\nKinderbildungs und -betreuungsgesetzes i. d. g. F. anerkannt.
URL:https://www.familienwohnzimmer.at/event/gewaltfreiekommunikation/
LOCATION:ONLINE Veranstaltung auf Zoom\, Österreich
ATTACH;FMTTYPE=image/jpeg:https://www.familienwohnzimmer.at/wp-content/uploads/2025/02/vavorschau_GWK_AdobeStock_144774321.jpg
END:VEVENT
BEGIN:VEVENT
DTSTART;TZID=Europe/Berlin:20250313T140000
DTEND;TZID=Europe/Berlin:20250313T170000
DTSTAMP:20260419T191647
CREATED:20240725T092126Z
LAST-MODIFIED:20250206T083730Z
UID:10000232-1741874400-1741885200@www.familienwohnzimmer.at
SUMMARY:offene Spielgruppe für Kinder von 0-6 Jahren
DESCRIPTION:Groß & Klein hat´s bei uns fein! Kinder jeden Alters erobern den Indoor Spielplatz\, während sich die Großen bei einem Kaffee unterhalten. Es kann gemalt und gebastelt werden und du kannst kommen und gehen\, wie du magst. \nKostenlos\nohne Anmeldung
URL:https://www.familienwohnzimmer.at/event/offene-spielgruppe-fuer-kinder-von-0-6-jahren/2025-03-13/
LOCATION:FamilienWohnZimmer\, Grazer Straße 3\, Kapfenberg\, Steiermark\, 8605\, Österreich
ATTACH;FMTTYPE=image/jpeg:https://www.familienwohnzimmer.at/wp-content/uploads/2024/07/vavorschau_Osg_AdobeStock_442336413.jpg
ORGANIZER;CN="FamilienWohnZimmer":MAILTO:fawozi@isgs.at
END:VEVENT
BEGIN:VEVENT
DTSTART;TZID=Europe/Berlin:20250317T160000
DTEND;TZID=Europe/Berlin:20250317T170000
DTSTAMP:20260419T191647
CREATED:20250206T083358Z
LAST-MODIFIED:20250206T143144Z
UID:10000300-1742227200-1742230800@www.familienwohnzimmer.at
SUMMARY:Familienyoga - Eine Reise in die Welt der Yogatiere
DESCRIPTION:Beim Kinderyoga werden Kinder spielerisch an die Yogaübungen herangeführt. Es geht dabei nicht um die korrekte Haltung der Pose\, sondern um Selbsterfahrung und Spaß an Bewegung für Kinder von 3 bis 6 Jahren. \nKosten: € 65\,- für 5 Einheiten (10.3.2025 – 7.4.2025) \nAnmeldung unter 0680 2009973 oder k.kienesberger@hiway.at \n 
URL:https://www.familienwohnzimmer.at/event/familienyoga/2025-03-17/
LOCATION:FamilienWohnZimmer\, Grazer Straße 3\, Kapfenberg\, Steiermark\, 8605\, Österreich
ATTACH;FMTTYPE=image/jpeg:https://www.familienwohnzimmer.at/wp-content/uploads/2025/02/vavorschau_Familienyoga_AdobeStock_210187231.jpg
END:VEVENT
BEGIN:VEVENT
DTSTART;TZID=Europe/Berlin:20250320T140000
DTEND;TZID=Europe/Berlin:20250320T170000
DTSTAMP:20260419T191647
CREATED:20250206T084604Z
LAST-MODIFIED:20250206T143850Z
UID:10000306-1742479200-1742490000@www.familienwohnzimmer.at
SUMMARY:Oma & Opa Special in der offenen Spielgruppe
DESCRIPTION:Heute sind alle Omas* und Opas* gefragt und herzlich eingeladen in die offene Spielgruppe zu kommen. Nach dem Motto „Groß & Klein hat´s bei uns fein“\, können die Kinder mit ihren Großeltern den Indoor Spielplatz erkunden\, lesen oder etwas Malen. Bei einem gemütlichen Kaffee können sich die Großeltern untereinander austauschen. Man kann kommen und gehen\, wie man mag. \nKostenlos\nohne Anmeldung
URL:https://www.familienwohnzimmer.at/event/omaopaspecial/
LOCATION:FamilienWohnZimmer\, Grazer Straße 3\, Kapfenberg\, Steiermark\, 8605\, Österreich
ATTACH;FMTTYPE=image/jpeg:https://www.familienwohnzimmer.at/wp-content/uploads/2025/02/vaVorschau_OOSpecial_AdobeStock_474775138.jpeg
ORGANIZER;CN="FamilienWohnZimmer":MAILTO:fawozi@isgs.at
END:VEVENT
BEGIN:VEVENT
DTSTART;TZID=Europe/Berlin:20250321T110000
DTEND;TZID=Europe/Berlin:20250321T120000
DTSTAMP:20260419T191647
CREATED:20250206T092918Z
LAST-MODIFIED:20250207T094930Z
UID:10000348-1742554800-1742558400@www.familienwohnzimmer.at
SUMMARY:Babymassagekurs
DESCRIPTION:für Babys im Alter von 2 – 7 Monaten \nNutze die wohltuenden Berührungen\, um die Bindung zu deinem Kind zu stärken und lerne\, genau auf seine Bedürfnisse einzugehen. Nebenbei werden Stoffwechsel\, Sinneswahrnehmungen\, Motorik und Immunsystem angeregt und Entspannung und besseres Schlafen gefördert. Darüber hinaus kann die Massage auch helfen\, schmerzhaften Blähungen und Koliken vorzubeugen bzw. sie zu lindern. Das Wichtigste aber ist – die Körpernähe und die Zeit mit dir tun deinem Baby richtig gut! \nIn 5 Einheiten lernst du spezielle Massagegriffe kennen und übst in den weiteren Einheiten die Sicherheit im Umgang damit. In einem ausführlichen Skript kannst du nachschlagen und die Griffe zuhause als tägliches Familienritual einführen. In jeder Einheit können wir aktuelle Fragen behandeln und uns über Anliegen austauschen. Damit sich dein Baby rundum wohl fühlt\, erwarten euch warme Kirschkernsäckchen sowie Massageöl. \nDer Kurs ist für Paare sehr gut geeignet\, da für jedes Paar eine Babypuppe zur Verfügung steht. \nMitzubringen sind: Stoffwindeln\, Babyhandtuch\, Wickelunterlage\, bequeme Kleidung \nKosten*: € 20\,- für ein Elternteil / € 25\,- für Paare für 5 Einheiten \nAnmeldung unter 0650 6905694 oder fawozi@isgs.at \nDieses Angebot ist gefördert vom Land Steiermark.
URL:https://www.familienwohnzimmer.at/event/babymassagekurs-2/2025-03-21/
LOCATION:FamilienWohnZimmer\, Grazer Straße 3\, Kapfenberg\, Steiermark\, 8605\, Österreich
ATTACH;FMTTYPE=image/jpeg:https://www.familienwohnzimmer.at/wp-content/uploads/2024/01/AdobeStock_292815686_Massage-scaled.jpg
END:VEVENT
BEGIN:VEVENT
DTSTART;TZID=Europe/Berlin:20250324T160000
DTEND;TZID=Europe/Berlin:20250324T170000
DTSTAMP:20260419T191647
CREATED:20250206T083358Z
LAST-MODIFIED:20250206T143144Z
UID:10000301-1742832000-1742835600@www.familienwohnzimmer.at
SUMMARY:Familienyoga - Eine Reise in die Welt der Yogatiere
DESCRIPTION:Beim Kinderyoga werden Kinder spielerisch an die Yogaübungen herangeführt. Es geht dabei nicht um die korrekte Haltung der Pose\, sondern um Selbsterfahrung und Spaß an Bewegung für Kinder von 3 bis 6 Jahren. \nKosten: € 65\,- für 5 Einheiten (10.3.2025 – 7.4.2025) \nAnmeldung unter 0680 2009973 oder k.kienesberger@hiway.at \n 
URL:https://www.familienwohnzimmer.at/event/familienyoga/2025-03-24/
LOCATION:FamilienWohnZimmer\, Grazer Straße 3\, Kapfenberg\, Steiermark\, 8605\, Österreich
ATTACH;FMTTYPE=image/jpeg:https://www.familienwohnzimmer.at/wp-content/uploads/2025/02/vavorschau_Familienyoga_AdobeStock_210187231.jpg
END:VEVENT
BEGIN:VEVENT
DTSTART;TZID=Europe/Berlin:20250326T143000
DTEND;TZID=Europe/Berlin:20250326T170000
DTSTAMP:20260419T191647
CREATED:20250206T090914Z
LAST-MODIFIED:20250206T151409Z
UID:10000320-1742999400-1743008400@www.familienwohnzimmer.at
SUMMARY:Familien-Info-Nachmittag: Gesunde Familienküche
DESCRIPTION:Wie kann ich mich und meine Familie gesund ernähren? Gemeinsam hinterfragen wir „Kinderlebensmittel“. Erhalte theoretisch und praktisch Tipps und Tricks sowie Rezeptideen für eine ausgewogene Ernährung für die ganze Familie\, um gut durch den Tag zu kommen. Nach einem Informationsteil wird das Gelernte gleich erprobt und du kannst mit deinem Kind gesunde Speisen zubereiten und genießen. \nKostenlos \nAnmeldung unter 0650 6905694
URL:https://www.familienwohnzimmer.at/event/gesunde-familienkueche/
LOCATION:FamilienWohnZimmer\, Grazer Straße 3\, Kapfenberg\, Steiermark\, 8605\, Österreich
ATTACH;FMTTYPE=image/jpeg:https://www.familienwohnzimmer.at/wp-content/uploads/2025/02/Fruehlingskueche_AdobeStock_165223618.jpeg
ORGANIZER;CN="FamilienWohnZimmer":MAILTO:fawozi@isgs.at
END:VEVENT
BEGIN:VEVENT
DTSTART;TZID=Europe/Berlin:20250327T140000
DTEND;TZID=Europe/Berlin:20250327T170000
DTSTAMP:20260419T191647
CREATED:20240725T092126Z
LAST-MODIFIED:20250206T083730Z
UID:10000234-1743084000-1743094800@www.familienwohnzimmer.at
SUMMARY:offene Spielgruppe für Kinder von 0-6 Jahren
DESCRIPTION:Groß & Klein hat´s bei uns fein! Kinder jeden Alters erobern den Indoor Spielplatz\, während sich die Großen bei einem Kaffee unterhalten. Es kann gemalt und gebastelt werden und du kannst kommen und gehen\, wie du magst. \nKostenlos\nohne Anmeldung
URL:https://www.familienwohnzimmer.at/event/offene-spielgruppe-fuer-kinder-von-0-6-jahren/2025-03-27/
LOCATION:FamilienWohnZimmer\, Grazer Straße 3\, Kapfenberg\, Steiermark\, 8605\, Österreich
ATTACH;FMTTYPE=image/jpeg:https://www.familienwohnzimmer.at/wp-content/uploads/2024/07/vavorschau_Osg_AdobeStock_442336413.jpg
ORGANIZER;CN="FamilienWohnZimmer":MAILTO:fawozi@isgs.at
END:VEVENT
BEGIN:VEVENT
DTSTART;TZID=Europe/Berlin:20250328T110000
DTEND;TZID=Europe/Berlin:20250328T120000
DTSTAMP:20260419T191647
CREATED:20250206T092918Z
LAST-MODIFIED:20250207T094930Z
UID:10000373-1743159600-1743163200@www.familienwohnzimmer.at
SUMMARY:Babymassagekurs
DESCRIPTION:für Babys im Alter von 2 – 7 Monaten \nNutze die wohltuenden Berührungen\, um die Bindung zu deinem Kind zu stärken und lerne\, genau auf seine Bedürfnisse einzugehen. Nebenbei werden Stoffwechsel\, Sinneswahrnehmungen\, Motorik und Immunsystem angeregt und Entspannung und besseres Schlafen gefördert. Darüber hinaus kann die Massage auch helfen\, schmerzhaften Blähungen und Koliken vorzubeugen bzw. sie zu lindern. Das Wichtigste aber ist – die Körpernähe und die Zeit mit dir tun deinem Baby richtig gut! \nIn 5 Einheiten lernst du spezielle Massagegriffe kennen und übst in den weiteren Einheiten die Sicherheit im Umgang damit. In einem ausführlichen Skript kannst du nachschlagen und die Griffe zuhause als tägliches Familienritual einführen. In jeder Einheit können wir aktuelle Fragen behandeln und uns über Anliegen austauschen. Damit sich dein Baby rundum wohl fühlt\, erwarten euch warme Kirschkernsäckchen sowie Massageöl. \nDer Kurs ist für Paare sehr gut geeignet\, da für jedes Paar eine Babypuppe zur Verfügung steht. \nMitzubringen sind: Stoffwindeln\, Babyhandtuch\, Wickelunterlage\, bequeme Kleidung \nKosten*: € 20\,- für ein Elternteil / € 25\,- für Paare für 5 Einheiten \nAnmeldung unter 0650 6905694 oder fawozi@isgs.at \nDieses Angebot ist gefördert vom Land Steiermark.
URL:https://www.familienwohnzimmer.at/event/babymassagekurs-2/2025-03-28/
LOCATION:FamilienWohnZimmer\, Grazer Straße 3\, Kapfenberg\, Steiermark\, 8605\, Österreich
ATTACH;FMTTYPE=image/jpeg:https://www.familienwohnzimmer.at/wp-content/uploads/2024/01/AdobeStock_292815686_Massage-scaled.jpg
END:VEVENT
BEGIN:VEVENT
DTSTART;TZID=Europe/Berlin:20250331T090000
DTEND;TZID=Europe/Berlin:20250331T110000
DTSTAMP:20260419T191647
CREATED:20250206T095907Z
LAST-MODIFIED:20250206T151546Z
UID:10000351-1743411600-1743418800@www.familienwohnzimmer.at
SUMMARY:Sozialarbeiterische SPRECHSTUNDE: Thema Familie/Trennung/Kindeswohl
DESCRIPTION:Deine Familie ist gerade in einer schwierigen Situation? Lass dich von einer Sozialarbeiterin beraten\, welche Möglichkeiten es für euch gibt. \nOft ist der erste Schritt zu einer Beratung die größte Hürde – diese wollen wir dir erleichtern! Bei unseren Sprechstunden hast du die Möglichkeit\, dich ca. 15 Minuten mit einer Expertin oder einem Experten zu einem bestimmten Thema auszutauschen. Für eine intensivere Beratung ist der erste Schritt getan – vielleicht merkst du aber auch: es braucht gar nicht mehr und deine Frage wurde geklärt. \nKostenlos\nAnmeldung unter 0650 6905694 oder fawozi@isgs.at \nDeinen genauen Time Slot bekommst du nach der Anmeldung!
URL:https://www.familienwohnzimmer.at/event/sprechstunde-sozialarbeit/
LOCATION:FamilienWohnZimmer\, Grazer Straße 3\, Kapfenberg\, Steiermark\, 8605\, Österreich
ATTACH;FMTTYPE=image/jpeg:https://www.familienwohnzimmer.at/wp-content/uploads/2024/07/vavorschau_SozSS_AdobeStock_120689036.jpg
END:VEVENT
BEGIN:VEVENT
DTSTART;TZID=Europe/Berlin:20250331T160000
DTEND;TZID=Europe/Berlin:20250331T170000
DTSTAMP:20260419T191647
CREATED:20250206T083358Z
LAST-MODIFIED:20250206T143144Z
UID:10000302-1743436800-1743440400@www.familienwohnzimmer.at
SUMMARY:Familienyoga - Eine Reise in die Welt der Yogatiere
DESCRIPTION:Beim Kinderyoga werden Kinder spielerisch an die Yogaübungen herangeführt. Es geht dabei nicht um die korrekte Haltung der Pose\, sondern um Selbsterfahrung und Spaß an Bewegung für Kinder von 3 bis 6 Jahren. \nKosten: € 65\,- für 5 Einheiten (10.3.2025 – 7.4.2025) \nAnmeldung unter 0680 2009973 oder k.kienesberger@hiway.at \n 
URL:https://www.familienwohnzimmer.at/event/familienyoga/2025-03-31/
LOCATION:FamilienWohnZimmer\, Grazer Straße 3\, Kapfenberg\, Steiermark\, 8605\, Österreich
ATTACH;FMTTYPE=image/jpeg:https://www.familienwohnzimmer.at/wp-content/uploads/2025/02/vavorschau_Familienyoga_AdobeStock_210187231.jpg
END:VEVENT
END:VCALENDAR