BEGIN:VCALENDAR
VERSION:2.0
PRODID:-//Familienwohnzimmer - ECPv6.14.2//NONSGML v1.0//EN
CALSCALE:GREGORIAN
METHOD:PUBLISH
X-ORIGINAL-URL:https://www.familienwohnzimmer.at
X-WR-CALDESC:Veranstaltungen für Familienwohnzimmer
REFRESH-INTERVAL;VALUE=DURATION:PT1H
X-Robots-Tag:noindex
X-PUBLISHED-TTL:PT1H
BEGIN:VTIMEZONE
TZID:Europe/Berlin
BEGIN:DAYLIGHT
TZOFFSETFROM:+0100
TZOFFSETTO:+0200
TZNAME:CEST
DTSTART:20250330T010000
END:DAYLIGHT
BEGIN:STANDARD
TZOFFSETFROM:+0200
TZOFFSETTO:+0100
TZNAME:CET
DTSTART:20251026T010000
END:STANDARD
END:VTIMEZONE
BEGIN:VEVENT
DTSTART;TZID=Europe/Berlin:20250507T140000
DTEND;TZID=Europe/Berlin:20250507T160000
DTSTAMP:20260419T222923
CREATED:20250206T082546Z
LAST-MODIFIED:20250206T142700Z
UID:10000298-1746626400-1746633600@www.familienwohnzimmer.at
SUMMARY:ELTERNSEMINAR: Entdecke die Welt der Babyzeichensprache
DESCRIPTION:Hast du dich immer schon gefragt\, was dir dein Baby sagen möchte? Die ersten Monate und Jahre sind eine aufregende Zeit\, in der dein kleines Wunder viele Bedürfnisse und Gefühle hat\, die es noch nicht verbal ausdrücken kann.\nMit der Babyzeichensprache kannst du deinem Baby helfen\, sich schon früh mitzuteilen! Stell dir vor\, dein Baby kann dir mit einfachen Gesten zeigen\, ob es hungrig ist\, müde oder einfach nur spielen möchte. Das stärkt nicht nur die Bindung zwischen euch\, sondern reduziert auch Frustration und Missverständnisse.\n\nIm Elternseminar zur Babyzeichensprache lernst du\, wie du die Kommunikation mit deinem Kind auf eine neue Ebene heben kannst. \nWas erwartet Dich? \n\n\nGrundlagen Babyzeichensprache: Was ist das und wie funktioniert es?\nPraktische Übungen: Lerne deine ersten individuellen 20 Zeichen\, die du im Alltag nutzen kannst.\nErfahre\, wie Babyzeichensprache die Sprachentwicklung fördert.\nTipps für den Alltag: Wie integrierst du die Zeichen in deinen täglichen Ablauf?\nFragen und Antworten: Nutze die Gelegenheit um individuelle Fragen zu stellen.\n\n\n\n\n\nMelde dich jetzt an und gib deinem Baby die Möglichkeit\, sich schon früh auszudrücken!\n\nKosten: € 10\,- pro Familie\nAnmeldung unter 0677 62421897  \n 
URL:https://www.familienwohnzimmer.at/event/babyzeichen/2025-05-07/
LOCATION:FamilienWohnZimmer\, Grazer Straße 3\, Kapfenberg\, Steiermark\, 8605\, Österreich
ATTACH;FMTTYPE=image/jpeg:https://www.familienwohnzimmer.at/wp-content/uploads/2024/07/VAvorschau_Babyzeichen_AdobeStock_79304318.jpg
ORGANIZER;CN="FamilienWohnZimmer":MAILTO:fawozi@isgs.at
END:VEVENT
BEGIN:VEVENT
DTSTART;TZID=Europe/Berlin:20250508T140000
DTEND;TZID=Europe/Berlin:20250508T170000
DTSTAMP:20260419T222923
CREATED:20240725T092126Z
LAST-MODIFIED:20250206T083730Z
UID:10000238-1746712800-1746723600@www.familienwohnzimmer.at
SUMMARY:offene Spielgruppe für Kinder von 0-6 Jahren
DESCRIPTION:Groß & Klein hat´s bei uns fein! Kinder jeden Alters erobern den Indoor Spielplatz\, während sich die Großen bei einem Kaffee unterhalten. Es kann gemalt und gebastelt werden und du kannst kommen und gehen\, wie du magst. \nKostenlos\nohne Anmeldung
URL:https://www.familienwohnzimmer.at/event/offene-spielgruppe-fuer-kinder-von-0-6-jahren/2025-05-08/
LOCATION:FamilienWohnZimmer\, Grazer Straße 3\, Kapfenberg\, Steiermark\, 8605\, Österreich
ATTACH;FMTTYPE=image/jpeg:https://www.familienwohnzimmer.at/wp-content/uploads/2024/07/vavorschau_Osg_AdobeStock_442336413.jpg
ORGANIZER;CN="FamilienWohnZimmer":MAILTO:fawozi@isgs.at
END:VEVENT
BEGIN:VEVENT
DTSTART;TZID=Europe/Berlin:20250514T180000
DTEND;TZID=Europe/Berlin:20250514T193000
DTSTAMP:20260419T222923
CREATED:20250206T102200Z
LAST-MODIFIED:20250408T071217Z
UID:10000359-1747245600-1747251000@www.familienwohnzimmer.at
SUMMARY:Die 7 Sicherheiten\, die Kinder brauchen - Evolutionspädagogik als Methode
DESCRIPTION:Dein Kind leidet an Konzentrationsproblemen\, Ängsten\, Lese-oder Schreibschwäche\, mangelndes Selbstbewusstsein oder Null-Bock Verhalten? Evolutionspädagogik kann schnell und effektiv durch Bewegung helfen. Lerne diese Methode kennen und erfahre\, ob sie für dein Kind passt\, um es gezielt zu unterstützen. \nThemen sind: \n\nWas ist Evolutionspädagogik\nWenn Sprache versagt\, hilft Bewegung\nVom Urvertrauen zum Selbstvertrauen\nLernen ist ein langsames sich Aufrichten\nBewegung\, Lernen\, Verhalten und Emotion hängen zusammen\nMein Kind beißt. Was hat das mit Reptilien zu tun?\nBeispiele aus der Praxis\nTipps für zuhause\n\nKostenlos\nAnmeldung unter 0650 6905694 oder fawozi@isgs.at
URL:https://www.familienwohnzimmer.at/event/evolutionspaedagogik/
LOCATION:FamilienWohnZimmer\, Grazer Straße 3\, Kapfenberg\, Steiermark\, 8605\, Österreich
ATTACH;FMTTYPE=image/jpeg:https://www.familienwohnzimmer.at/wp-content/uploads/2025/02/VAvorschau_Evopaed_AdobeStock_48814099.jpg
END:VEVENT
BEGIN:VEVENT
DTSTART;TZID=Europe/Berlin:20250515T140000
DTEND;TZID=Europe/Berlin:20250515T170000
DTSTAMP:20260419T222923
CREATED:20240725T092126Z
LAST-MODIFIED:20250206T083730Z
UID:10000239-1747317600-1747328400@www.familienwohnzimmer.at
SUMMARY:offene Spielgruppe für Kinder von 0-6 Jahren
DESCRIPTION:Groß & Klein hat´s bei uns fein! Kinder jeden Alters erobern den Indoor Spielplatz\, während sich die Großen bei einem Kaffee unterhalten. Es kann gemalt und gebastelt werden und du kannst kommen und gehen\, wie du magst. \nKostenlos\nohne Anmeldung
URL:https://www.familienwohnzimmer.at/event/offene-spielgruppe-fuer-kinder-von-0-6-jahren/2025-05-15/
LOCATION:FamilienWohnZimmer\, Grazer Straße 3\, Kapfenberg\, Steiermark\, 8605\, Österreich
ATTACH;FMTTYPE=image/jpeg:https://www.familienwohnzimmer.at/wp-content/uploads/2024/07/vavorschau_Osg_AdobeStock_442336413.jpg
ORGANIZER;CN="FamilienWohnZimmer":MAILTO:fawozi@isgs.at
END:VEVENT
BEGIN:VEVENT
DTSTART;TZID=Europe/Berlin:20250515T150000
DTEND;TZID=Europe/Berlin:20250515T170000
DTSTAMP:20260419T222923
CREATED:20250206T100334Z
LAST-MODIFIED:20250207T105044Z
UID:10000353-1747321200-1747328400@www.familienwohnzimmer.at
SUMMARY:SPRECHSTUNDE: Diätologie
DESCRIPTION:Du hast Fragen zum Essverhalten deines Kindes oder zur Ernährung (in eurer Familie) allgemein? \nOft ist der erste Schritt zu einer Beratung die größte Hürde – diese wollen wir dir erleichtern! Bei unseren Sprechstunden hast du die Möglichkeit\, dich ca. 15 Minuten mit einer Expertin oder einem Experten zu einem bestimmten Thema auszutauschen. Für eine intensivere Beratung ist der erste Schritt getan – vielleicht merkst du aber auch: es braucht gar nicht mehr und deine Frage wurde geklärt. \nKostenlos\nAnmeldung unter 0650 6905694 oder fawozi@isgs.at \nDeinen genauen Time Slot bekommst du nach der Anmeldung!
URL:https://www.familienwohnzimmer.at/event/sprechstunde-diaetologie/
LOCATION:FamilienWohnZimmer\, Grazer Straße 3\, Kapfenberg\, Steiermark\, 8605\, Österreich
ATTACH;FMTTYPE=image/jpeg:https://www.familienwohnzimmer.at/wp-content/uploads/2025/02/VAVorschau_Diaetologie_eggshell-4042471.jpg
END:VEVENT
BEGIN:VEVENT
DTSTART;TZID=Europe/Berlin:20250517T090000
DTEND;TZID=Europe/Berlin:20250517T110000
DTSTAMP:20260419T222923
CREATED:20250206T080329Z
LAST-MODIFIED:20250207T105532Z
UID:10000285-1747472400-1747479600@www.familienwohnzimmer.at
SUMMARY:Papa* Café - gemütliche (Spiel)Zeit mit deinem Kind
DESCRIPTION:Alle Papas* & Opas* aufgepasst! Spielen\, bauen\, aktiv oder gemütlich sein\, alleine oder in der Gruppe – im größten Wohnzimmer Kapfenbergs. Das Papa*-Café bietet allen Papas*/Opas* einen freien Treffpunkt unter sich\, um Kontakte mit Gleichgesinnten knüpfen zu können und Erfahrungen auszutauschen. \n€ 3\,- pro Erwachsenem inkl. 1 Kaffee\nohne Anmeldung
URL:https://www.familienwohnzimmer.at/event/papa-cafe-gemuetliche-spielzeit-mit-deinem-kind-10/2025-05-17/
LOCATION:FamilienWohnZimmer\, Grazer Straße 3\, Kapfenberg\, Steiermark\, 8605\, Österreich
ATTACH;FMTTYPE=image/jpeg:https://www.familienwohnzimmer.at/wp-content/uploads/2023/01/AdobeStock_260355791-scaled.jpg
ORGANIZER;CN="FamilienWohnZimmer":MAILTO:fawozi@isgs.at
END:VEVENT
BEGIN:VEVENT
DTSTART;TZID=Europe/Berlin:20250521T143000
DTEND;TZID=Europe/Berlin:20250521T160000
DTSTAMP:20260419T222923
CREATED:20250206T103852Z
LAST-MODIFIED:20250206T153543Z
UID:10000371-1747837800-1747843200@www.familienwohnzimmer.at
SUMMARY:Gesprächsrunde: Wie lerne ich mit Ängsten umzugehen
DESCRIPTION:Wenn Ängste\, Unsicherheiten\, Stress Kinder begleiten\, zeigen sich diese in den\nunterschiedlichsten Formen: Bauchschmerzen\, Anhänglichkeit\, Nervosität\,\nReizbarkeit\, (Ein-/Durch-)Schlafschwierigkeiten…. Wie wirken sich Ängste bei\nKindern aus? Wie können wir unsere Kinder dabei begleiten und einen guten Umgang\ndamit entwickeln? Erhalte Tipps\, um Anzeichen zu erkennen und Kinder zu stärken. \nKostenlos\nAnmeldung unter 0676 86643585
URL:https://www.familienwohnzimmer.at/event/gespraechsrunde-aengste/
LOCATION:FamilienWohnZimmer\, Grazer Straße 3\, Kapfenberg\, Steiermark\, 8605\, Österreich
ATTACH;FMTTYPE=image/jpeg:https://www.familienwohnzimmer.at/wp-content/uploads/2025/02/ebz_Logo_2024_RGB.jpg
END:VEVENT
BEGIN:VEVENT
DTSTART;TZID=Europe/Berlin:20250522T140000
DTEND;TZID=Europe/Berlin:20250522T170000
DTSTAMP:20260419T222923
CREATED:20240725T092126Z
LAST-MODIFIED:20250206T083730Z
UID:10000240-1747922400-1747933200@www.familienwohnzimmer.at
SUMMARY:offene Spielgruppe für Kinder von 0-6 Jahren
DESCRIPTION:Groß & Klein hat´s bei uns fein! Kinder jeden Alters erobern den Indoor Spielplatz\, während sich die Großen bei einem Kaffee unterhalten. Es kann gemalt und gebastelt werden und du kannst kommen und gehen\, wie du magst. \nKostenlos\nohne Anmeldung
URL:https://www.familienwohnzimmer.at/event/offene-spielgruppe-fuer-kinder-von-0-6-jahren/2025-05-22/
LOCATION:FamilienWohnZimmer\, Grazer Straße 3\, Kapfenberg\, Steiermark\, 8605\, Österreich
ATTACH;FMTTYPE=image/jpeg:https://www.familienwohnzimmer.at/wp-content/uploads/2024/07/vavorschau_Osg_AdobeStock_442336413.jpg
ORGANIZER;CN="FamilienWohnZimmer":MAILTO:fawozi@isgs.at
END:VEVENT
BEGIN:VEVENT
DTSTART;TZID=Europe/Berlin:20250528T090000
DTEND;TZID=Europe/Berlin:20250528T110000
DTSTAMP:20260419T222923
CREATED:20250206T100833Z
LAST-MODIFIED:20250206T150606Z
UID:10000355-1748422800-1748430000@www.familienwohnzimmer.at
SUMMARY:Entwicklungspsychologische SPRECHSTUNDE Online
DESCRIPTION:Du hast Fragen zur Entwicklung deines Kindes? \nBei unseren Sprechstunden hast du die Möglichkeit\, dich ca. 15 Minuten mit einer Expertin zu einem bestimmten Thema auszutauschen. Für eine intensivere Beratung ist der erste Schritt getan – vielleicht merkst du aber auch: es braucht gar nicht mehr und deine Fragen wurden geklärt. \nKostenlos\nAnmeldung unter 0650 6905694 oder fawozi@isgs.at \nDeinen genauen Time Slot und den Zoom Link bekommst du nach der Anmeldung!
URL:https://www.familienwohnzimmer.at/event/entwicklungspsychologie/
LOCATION:FamilienWohnZimmer\, Grazer Straße 3\, Kapfenberg\, Steiermark\, 8605\, Österreich
ATTACH;FMTTYPE=image/jpeg:https://www.familienwohnzimmer.at/wp-content/uploads/2025/02/vaVorschau_EntwSS_AdobeStock_271345327.jpg
END:VEVENT
END:VCALENDAR