BEGIN:VCALENDAR
VERSION:2.0
PRODID:-//Familienwohnzimmer - ECPv6.14.2//NONSGML v1.0//EN
CALSCALE:GREGORIAN
METHOD:PUBLISH
X-ORIGINAL-URL:https://www.familienwohnzimmer.at
X-WR-CALDESC:Veranstaltungen für Familienwohnzimmer
REFRESH-INTERVAL;VALUE=DURATION:PT1H
X-Robots-Tag:noindex
X-PUBLISHED-TTL:PT1H
BEGIN:VTIMEZONE
TZID:Europe/Berlin
BEGIN:DAYLIGHT
TZOFFSETFROM:+0100
TZOFFSETTO:+0200
TZNAME:CEST
DTSTART:20220327T010000
END:DAYLIGHT
BEGIN:STANDARD
TZOFFSETFROM:+0200
TZOFFSETTO:+0100
TZNAME:CET
DTSTART:20221030T010000
END:STANDARD
END:VTIMEZONE
BEGIN:VEVENT
DTSTART;TZID=Europe/Berlin:20221212T183000
DTEND;TZID=Europe/Berlin:20221212T200000
DTSTAMP:20260422T145929
CREATED:20220119T084518Z
LAST-MODIFIED:20221130T105341Z
UID:10000007-1670869800-1670875200@www.familienwohnzimmer.at
SUMMARY:Handy\, Tablet & Co - ONLINE Vortrag
DESCRIPTION:Online-Vortrag  \n\n\n\n\n\n\n\n\n\n\n\n\n\n\n\n\nMedien wie Handy\, Tablet & Co gehören für Kinder bereits früh zum Alltag. Wie können wir als Eltern ein Vorbild für unsere Kinder sein? Wie lange und welche Inhalte sind schon zu viel für Kleinkinder? In diesem Vortrag erfährst du\, wie Kinder die Inhalte wahrnehmen\, was sie verarbeiten können und was sie überfordert. \n\n\n\n\n\n\n\n\n\n\n\n\n\n\n\n\nEinstieg mit zoom.us/join\nMeeting-ID: 582 280 9286 \nDiese Online-Veranstaltung ist für das MamaPapa-Ticket einlösbar!
URL:https://www.familienwohnzimmer.at/event/handy-tablet-co-online-und-live/
LOCATION:ONLINE Veranstaltung auf Zoom\, Österreich
ATTACH;FMTTYPE=image/png:https://www.familienwohnzimmer.at/wp-content/uploads/2018/01/mpt_logo_fin-02-e1516798111267.png
END:VEVENT
END:VCALENDAR