BEGIN:VCALENDAR
VERSION:2.0
PRODID:-//Familienwohnzimmer - ECPv6.14.2//NONSGML v1.0//EN
CALSCALE:GREGORIAN
METHOD:PUBLISH
X-ORIGINAL-URL:https://www.familienwohnzimmer.at
X-WR-CALDESC:Veranstaltungen für Familienwohnzimmer
REFRESH-INTERVAL;VALUE=DURATION:PT1H
X-Robots-Tag:noindex
X-PUBLISHED-TTL:PT1H
BEGIN:VTIMEZONE
TZID:Europe/Berlin
BEGIN:DAYLIGHT
TZOFFSETFROM:+0100
TZOFFSETTO:+0200
TZNAME:CEST
DTSTART:20220327T010000
END:DAYLIGHT
BEGIN:STANDARD
TZOFFSETFROM:+0200
TZOFFSETTO:+0100
TZNAME:CET
DTSTART:20221030T010000
END:STANDARD
END:VTIMEZONE
BEGIN:VEVENT
DTSTART;TZID=Europe/Berlin:20221219T153000
DTEND;TZID=Europe/Berlin:20221219T170000
DTSTAMP:20260422T133138
CREATED:20220908T141200Z
LAST-MODIFIED:20220908T141200Z
UID:10000101-1671463800-1671469200@www.familienwohnzimmer.at
SUMMARY:Hurra - der Kasperl kommt!
DESCRIPTION:Tri tra trallala der Kasperl ist schon wieder da! Der Kasperl schreibt einen Brief ans Christkind…. \nohne Anmeldung
URL:https://www.familienwohnzimmer.at/event/hurra-der-kasperl-kommt-3/
LOCATION:FamilienWohnZimmer\, Grazer Straße 3\, Kapfenberg\, Steiermark\, 8605\, Österreich
ORGANIZER;CN="FamilienWohnZimmer":MAILTO:fawozi@isgs.at
END:VEVENT
END:VCALENDAR