BEGIN:VCALENDAR
VERSION:2.0
PRODID:-//Familienwohnzimmer - ECPv6.14.2//NONSGML v1.0//EN
CALSCALE:GREGORIAN
METHOD:PUBLISH
X-ORIGINAL-URL:https://www.familienwohnzimmer.at
X-WR-CALDESC:Veranstaltungen für Familienwohnzimmer
REFRESH-INTERVAL;VALUE=DURATION:PT1H
X-Robots-Tag:noindex
X-PUBLISHED-TTL:PT1H
BEGIN:VTIMEZONE
TZID:Europe/Berlin
BEGIN:DAYLIGHT
TZOFFSETFROM:+0100
TZOFFSETTO:+0200
TZNAME:CEST
DTSTART:20230326T010000
END:DAYLIGHT
BEGIN:STANDARD
TZOFFSETFROM:+0200
TZOFFSETTO:+0100
TZNAME:CET
DTSTART:20231029T010000
END:STANDARD
END:VTIMEZONE
BEGIN:VEVENT
DTSTART;TZID=Europe/Berlin:20230126T183000
DTEND;TZID=Europe/Berlin:20230126T200000
DTSTAMP:20260420T051913
CREATED:20221125T095811Z
LAST-MODIFIED:20230131T132913Z
UID:10000107-1674757800-1674763200@www.familienwohnzimmer.at
SUMMARY:Mit Kindern übers Klima reden?!
DESCRIPTION:Online-Vortrag  \n\n\n\n\n\n\n\n\n\n\n\n\n\n\n\n\nWie spreche ich mit Kleinkindern über den Klimawandel? Und wie besser nicht? Wie mache ich sie mit dem Thema vertraut? Erhalte theoretische und praktische Tipps wie ein klimabewusster Umgang in den Alltag mit Kleinkindern integriert werden kann. \n\n\n\n\n\n\n\n\n\n\n\n\n\n\n\n\nKostenlos! Ohne Anmeldung! \nEinstieg mit zoom.us/join\nMeeting-ID: 582 280 9286 \nDiese Online-Veranstaltung ist für das MamaPapa-Ticket einlösbar!
URL:https://www.familienwohnzimmer.at/event/mit-kindern-uebers-klima-reden-online/
LOCATION:ONLINE Veranstaltung auf Zoom\, Österreich
ATTACH;FMTTYPE=image/png:https://www.familienwohnzimmer.at/wp-content/uploads/2018/01/mpt_logo_fin-02-e1516798111267.png
ORGANIZER;CN="FamilienWohnZimmer":MAILTO:fawozi@isgs.at
END:VEVENT
END:VCALENDAR