BEGIN:VCALENDAR
VERSION:2.0
PRODID:-//Familienwohnzimmer - ECPv6.14.2//NONSGML v1.0//EN
CALSCALE:GREGORIAN
METHOD:PUBLISH
X-WR-CALNAME:Familienwohnzimmer
X-ORIGINAL-URL:https://www.familienwohnzimmer.at
X-WR-CALDESC:Veranstaltungen für Familienwohnzimmer
REFRESH-INTERVAL;VALUE=DURATION:PT1H
X-Robots-Tag:noindex
X-PUBLISHED-TTL:PT1H
BEGIN:VTIMEZONE
TZID:Europe/Berlin
BEGIN:DAYLIGHT
TZOFFSETFROM:+0100
TZOFFSETTO:+0200
TZNAME:CEST
DTSTART:20230326T010000
END:DAYLIGHT
BEGIN:STANDARD
TZOFFSETFROM:+0200
TZOFFSETTO:+0100
TZNAME:CET
DTSTART:20231029T010000
END:STANDARD
END:VTIMEZONE
BEGIN:VEVENT
DTSTART;TZID=Europe/Berlin:20230209T153000
DTEND;TZID=Europe/Berlin:20230209T170000
DTSTAMP:20260420T021240
CREATED:20221129T140552Z
LAST-MODIFIED:20230208T112259Z
UID:10000109-1675956600-1675962000@www.familienwohnzimmer.at
SUMMARY:ABGESAGT!! Denn alles\, was dein Baby braucht\, bist du!
DESCRIPTION:ABGESAGT\n \nKaum ist man schwanger begegnen einem hunderte Dinge\, die man angeblich für das Neugeborene braucht. Von Schnuller\, Fläschchen bis zur kompletten Kinderzimmereinrichtung ist alles dabei. Doch was braucht dein Baby wirklich? Erfahre in diesem Vortrag\, wie du nachhaltig und bedürfnisorientiert die Baby- und Kleinkindzeit genießen kannst. \nKostenlos! Ohne Anmeldung! \nDiese Veranstaltung ist für das MamaPapa-Ticket einlösbar!
URL:https://www.familienwohnzimmer.at/event/denn-alles-was-dein-baby-braucht-bist-du-vortrag/
LOCATION:FamilienWohnZimmer\, Grazer Straße 3\, Kapfenberg\, Steiermark\, 8605\, Österreich
ATTACH;FMTTYPE=image/jpeg:https://www.familienwohnzimmer.at/wp-content/uploads/2021/09/Zwei_und_Mehr_Logo_Digital.jpg
ORGANIZER;CN="FamilienWohnZimmer":MAILTO:fawozi@isgs.at
END:VEVENT
END:VCALENDAR