BEGIN:VCALENDAR
VERSION:2.0
PRODID:-//Familienwohnzimmer - ECPv6.14.2//NONSGML v1.0//EN
CALSCALE:GREGORIAN
METHOD:PUBLISH
X-WR-CALNAME:Familienwohnzimmer
X-ORIGINAL-URL:https://www.familienwohnzimmer.at
X-WR-CALDESC:Veranstaltungen für Familienwohnzimmer
REFRESH-INTERVAL;VALUE=DURATION:PT1H
X-Robots-Tag:noindex
X-PUBLISHED-TTL:PT1H
BEGIN:VTIMEZONE
TZID:Europe/Berlin
BEGIN:DAYLIGHT
TZOFFSETFROM:+0100
TZOFFSETTO:+0200
TZNAME:CEST
DTSTART:20230326T010000
END:DAYLIGHT
BEGIN:STANDARD
TZOFFSETFROM:+0200
TZOFFSETTO:+0100
TZNAME:CET
DTSTART:20231029T010000
END:STANDARD
END:VTIMEZONE
BEGIN:VEVENT
DTSTART;TZID=Europe/Berlin:20230306T150000
DTEND;TZID=Europe/Berlin:20230306T170000
DTSTAMP:20260419T202242
CREATED:20220908T141813Z
LAST-MODIFIED:20230222T122010Z
UID:10000104-1678114800-1678122000@www.familienwohnzimmer.at
SUMMARY:Vorlesenachmittag
DESCRIPTION:Wir laden euch herzlich zu einem Vorlesenachmittag für Kleinkinder bei uns im FamilienWohnZimmer ein!\nWir packen das Kamishibai Erzähltheater aus und erzählen euch eine spannende\, lustige Geschichte. Es wird außerdem gemeinsam gebastelt und ihr könnt den Nachmittag mit Spielen in unserem gemütlichen Familienwohnzimmer ausklingen lassen. \nohne Anmeldung
URL:https://www.familienwohnzimmer.at/event/vorlesenachmittag-4/
LOCATION:FamilienWohnZimmer\, Grazer Straße 3\, Kapfenberg\, Steiermark\, 8605\, Österreich
ORGANIZER;CN="FamilienWohnZimmer":MAILTO:fawozi@isgs.at
END:VEVENT
END:VCALENDAR