BEGIN:VCALENDAR
VERSION:2.0
PRODID:-//Familienwohnzimmer - ECPv6.14.2//NONSGML v1.0//EN
CALSCALE:GREGORIAN
METHOD:PUBLISH
X-ORIGINAL-URL:https://www.familienwohnzimmer.at
X-WR-CALDESC:Veranstaltungen für Familienwohnzimmer
REFRESH-INTERVAL;VALUE=DURATION:PT1H
X-Robots-Tag:noindex
X-PUBLISHED-TTL:PT1H
BEGIN:VTIMEZONE
TZID:Europe/Berlin
BEGIN:DAYLIGHT
TZOFFSETFROM:+0100
TZOFFSETTO:+0200
TZNAME:CEST
DTSTART:20230326T010000
END:DAYLIGHT
BEGIN:STANDARD
TZOFFSETFROM:+0200
TZOFFSETTO:+0100
TZNAME:CET
DTSTART:20231029T010000
END:STANDARD
END:VTIMEZONE
BEGIN:VEVENT
DTSTART;TZID=Europe/Berlin:20230321T200000
DTEND;TZID=Europe/Berlin:20230321T213000
DTSTAMP:20260419T202731
CREATED:20221207T151237Z
LAST-MODIFIED:20221213T105425Z
UID:10000021-1679428800-1679434200@www.familienwohnzimmer.at
SUMMARY:Mama schaut auf sich
DESCRIPTION:ONLINE-Vortrag  \n\n\n\n\n\n\n\n\n\n\n\n\n\n\n\n\nBalance zwischen Mutterglück und Familienalltag! Endlich ist das Baby da. Doch in der Rolle als Mama eines (oder mehrerer) Babys oder Kleinkindes\, vergisst frau oft auf sich selbst. „Ohne Mama geht nichts!??“ „Bin ich eine schlechte Mama\, wenn ich mir „Auszeit“ für mich selbst nehme?“ Erhalte in diesem Vortrag Antworten auf diese Fragen und erfahre wie wichtig die Selbstfürsorge als Mama ist. \n\n\n\n\n\n\n\n\n\n\n\n\n\n\n\n\nEinstieg mit zoom.us/join\nMeeting-ID: 582 280 9286 \nKostenlos! Ohne Anmeldung! \nDiese Online-Veranstaltung ist für das MamaPapa-Ticket einlösbar!
URL:https://www.familienwohnzimmer.at/event/mama-schaut-auf-sich-online-vortrag/
LOCATION:ONLINE Veranstaltung auf Zoom\, Österreich
ATTACH;FMTTYPE=image/png:https://www.familienwohnzimmer.at/wp-content/uploads/2018/01/mpt_logo_fin-02-e1516798111267.png
ORGANIZER;CN="FamilienWohnZimmer":MAILTO:fawozi@isgs.at
END:VEVENT
END:VCALENDAR