BEGIN:VCALENDAR
VERSION:2.0
PRODID:-//Familienwohnzimmer - ECPv6.14.2//NONSGML v1.0//EN
CALSCALE:GREGORIAN
METHOD:PUBLISH
X-ORIGINAL-URL:https://www.familienwohnzimmer.at
X-WR-CALDESC:Veranstaltungen für Familienwohnzimmer
REFRESH-INTERVAL;VALUE=DURATION:PT1H
X-Robots-Tag:noindex
X-PUBLISHED-TTL:PT1H
BEGIN:VTIMEZONE
TZID:Europe/Berlin
BEGIN:DAYLIGHT
TZOFFSETFROM:+0100
TZOFFSETTO:+0200
TZNAME:CEST
DTSTART:20230326T010000
END:DAYLIGHT
BEGIN:STANDARD
TZOFFSETFROM:+0200
TZOFFSETTO:+0100
TZNAME:CET
DTSTART:20231029T010000
END:STANDARD
END:VTIMEZONE
BEGIN:VEVENT
DTSTART;TZID=Europe/Berlin:20230327T153000
DTEND;TZID=Europe/Berlin:20230327T173000
DTSTAMP:20260419T160739
CREATED:20221207T151415Z
LAST-MODIFIED:20221207T151415Z
UID:10000022-1679931000-1679938200@www.familienwohnzimmer.at
SUMMARY:Kindernotfall-Crashkurs
DESCRIPTION:Workshop  \nIn diesem zweistündigen Crashkurs bekommst du einen kurzen Überblick über die Erste Hilfe für Säuglinge und Kinder. Welche Situationen (Unfälle\, Krankheiten) können entstehen\, in denen mein Kind Erste Hilfe benötigt? Wie kann ich diese Situationen vermeiden und was kann ich in einer Notsituation tun\, um dem Kind zu helfen? (Gilt nicht als Nachweis für den vollständigen Kindernotfallkurs über 6 Stunden.) \nKostenlos! Ohne Anmeldung! \nDiese Veranstaltung ist für das MamaPapa-Ticket einlösbar!
URL:https://www.familienwohnzimmer.at/event/kindernotfall-crashkurs-3/
LOCATION:FamilienWohnZimmer\, Grazer Straße 3\, Kapfenberg\, Steiermark\, 8605\, Österreich
ATTACH;FMTTYPE=image/png:https://www.familienwohnzimmer.at/wp-content/uploads/2018/01/mpt_logo_fin-02-e1516798111267.png
ORGANIZER;CN="FamilienWohnZimmer":MAILTO:fawozi@isgs.at
END:VEVENT
END:VCALENDAR