BEGIN:VCALENDAR
VERSION:2.0
PRODID:-//Familienwohnzimmer - ECPv6.14.2//NONSGML v1.0//EN
CALSCALE:GREGORIAN
METHOD:PUBLISH
X-WR-CALNAME:Familienwohnzimmer
X-ORIGINAL-URL:https://www.familienwohnzimmer.at
X-WR-CALDESC:Veranstaltungen für Familienwohnzimmer
REFRESH-INTERVAL;VALUE=DURATION:PT1H
X-Robots-Tag:noindex
X-PUBLISHED-TTL:PT1H
BEGIN:VTIMEZONE
TZID:Europe/Berlin
BEGIN:DAYLIGHT
TZOFFSETFROM:+0100
TZOFFSETTO:+0200
TZNAME:CEST
DTSTART:20230326T010000
END:DAYLIGHT
BEGIN:STANDARD
TZOFFSETFROM:+0200
TZOFFSETTO:+0100
TZNAME:CET
DTSTART:20231029T010000
END:STANDARD
END:VTIMEZONE
BEGIN:VEVENT
DTSTART;TZID=Europe/Berlin:20230525T183000
DTEND;TZID=Europe/Berlin:20230525T200000
DTSTAMP:20260419T171649
CREATED:20221207T160000Z
LAST-MODIFIED:20221221T141531Z
UID:10000027-1685039400-1685044800@www.familienwohnzimmer.at
SUMMARY:Mental Load - Familienarbeit gerecht aufgeteilt
DESCRIPTION:VORTRAG \nDas Organisieren des Familienalltags liegt meist als unsichtbare Denkarbeit bei den Frauen und Müttern. Wie können diese wichtige Aufgaben fair aufgeteilt werden? Wie leicht fällt es dir als Mama diese Verantwortlichkeiten abzugeben? Erfahre in diesem Vortrag\, wie ein gleichberechtigter Familienalltag gelingen kann. \nKostenlos! Ohne Anmeldung! \nEinstieg mit zoom.us/join\nMeeting-ID: 582 280 9286 \nDiese Veranstaltung ist für das MamaPapa-Ticket einlösbar!
URL:https://www.familienwohnzimmer.at/event/familienarbeit-gerecht-aufteilen-vortrag/
LOCATION:ONLINE Veranstaltung auf Zoom\, Österreich
ATTACH;FMTTYPE=image/png:https://www.familienwohnzimmer.at/wp-content/uploads/2018/01/mpt_logo_fin-02-e1516798111267.png
ORGANIZER;CN="FamilienWohnZimmer":MAILTO:fawozi@isgs.at
END:VEVENT
END:VCALENDAR