BEGIN:VCALENDAR
VERSION:2.0
PRODID:-//Familienwohnzimmer - ECPv6.14.2//NONSGML v1.0//EN
CALSCALE:GREGORIAN
METHOD:PUBLISH
X-ORIGINAL-URL:https://www.familienwohnzimmer.at
X-WR-CALDESC:Veranstaltungen für Familienwohnzimmer
REFRESH-INTERVAL;VALUE=DURATION:PT1H
X-Robots-Tag:noindex
X-PUBLISHED-TTL:PT1H
BEGIN:VTIMEZONE
TZID:Europe/Berlin
BEGIN:DAYLIGHT
TZOFFSETFROM:+0100
TZOFFSETTO:+0200
TZNAME:CEST
DTSTART:20240331T010000
END:DAYLIGHT
BEGIN:STANDARD
TZOFFSETFROM:+0200
TZOFFSETTO:+0100
TZNAME:CET
DTSTART:20241027T010000
END:STANDARD
END:VTIMEZONE
BEGIN:VEVENT
DTSTART;TZID=Europe/Berlin:20241211T143000
DTEND;TZID=Europe/Berlin:20241211T163000
DTSTAMP:20260419T185916
CREATED:20240725T101105Z
LAST-MODIFIED:20240729T095248Z
UID:10000259-1733927400-1733934600@www.familienwohnzimmer.at
SUMMARY:Wir backen gemeinsam Weihnachtskekse!
DESCRIPTION:Hier geht’s zur Veranstaltung\, einfach klicken! \nVeranstaltungen im Jahreskreis
URL:https://www.familienwohnzimmer.at/event/kekse-backen/
LOCATION:FamilienWohnZimmer\, Grazer Straße 3\, Kapfenberg\, Steiermark\, 8605\, Österreich
ATTACH;FMTTYPE=image/jpeg:https://www.familienwohnzimmer.at/wp-content/uploads/2024/07/Uebersicht_Keksebacken_cookies-791112_1280.jpg
ORGANIZER;CN="FamilienWohnZimmer":MAILTO:fawozi@isgs.at
END:VEVENT
BEGIN:VEVENT
DTSTART;TZID=Europe/Berlin:20241212T140000
DTEND;TZID=Europe/Berlin:20241212T170000
DTSTAMP:20260419T185916
CREATED:20240725T092126Z
LAST-MODIFIED:20250206T083730Z
UID:10000222-1734012000-1734022800@www.familienwohnzimmer.at
SUMMARY:offene Spielgruppe für Kinder von 0-6 Jahren
DESCRIPTION:Groß & Klein hat´s bei uns fein! Kinder jeden Alters erobern den Indoor Spielplatz\, während sich die Großen bei einem Kaffee unterhalten. Es kann gemalt und gebastelt werden und du kannst kommen und gehen\, wie du magst. \nKostenlos\nohne Anmeldung
URL:https://www.familienwohnzimmer.at/event/offene-spielgruppe-fuer-kinder-von-0-6-jahren/2024-12-12/
LOCATION:FamilienWohnZimmer\, Grazer Straße 3\, Kapfenberg\, Steiermark\, 8605\, Österreich
ATTACH;FMTTYPE=image/jpeg:https://www.familienwohnzimmer.at/wp-content/uploads/2024/07/vavorschau_Osg_AdobeStock_442336413.jpg
ORGANIZER;CN="FamilienWohnZimmer":MAILTO:fawozi@isgs.at
END:VEVENT
BEGIN:VEVENT
DTSTART;TZID=Europe/Berlin:20241214T090000
DTEND;TZID=Europe/Berlin:20241214T110000
DTSTAMP:20260419T185916
CREATED:20231221T094700Z
LAST-MODIFIED:20240814T144956Z
UID:10000177-1734166800-1734174000@www.familienwohnzimmer.at
SUMMARY:Papa* Café - gemütliche (Spiel)Zeit mit deinem Kind
DESCRIPTION:Alle Papas & Opas aufgepasst! Spielen\, bauen\, aktiv oder gemütlich sein\, alleine oder in der Gruppe – im größten Wohnzimmer Kapfenbergs. Das Papa*-Café bietet allen Papas/Opas einen freien Treffpunkt unter sich\, um Kontakte mit Gleichgesinnten knüpfen zu können und Erfahrungen auszutauschen. \n€ 3\,- pro Erwachsenem inkl. 1 Kaffee\nohne Anmeldung
URL:https://www.familienwohnzimmer.at/event/papa-cafe-gemuetliche-spielzeit-mit-deinem-kind-8/2024-12-14/
LOCATION:FamilienWohnZimmer\, Grazer Straße 3\, Kapfenberg\, Steiermark\, 8605\, Österreich
ATTACH;FMTTYPE=image/jpeg:https://www.familienwohnzimmer.at/wp-content/uploads/2023/01/AdobeStock_260355791-scaled.jpg
ORGANIZER;CN="FamilienWohnZimmer":MAILTO:fawozi@isgs.at
END:VEVENT
END:VCALENDAR