BEGIN:VCALENDAR
VERSION:2.0
PRODID:-//Familienwohnzimmer - ECPv6.14.2//NONSGML v1.0//EN
CALSCALE:GREGORIAN
METHOD:PUBLISH
X-ORIGINAL-URL:https://www.familienwohnzimmer.at
X-WR-CALDESC:Veranstaltungen für Familienwohnzimmer
REFRESH-INTERVAL;VALUE=DURATION:PT1H
X-Robots-Tag:noindex
X-PUBLISHED-TTL:PT1H
BEGIN:VTIMEZONE
TZID:Europe/Berlin
BEGIN:DAYLIGHT
TZOFFSETFROM:+0100
TZOFFSETTO:+0200
TZNAME:CEST
DTSTART:20250330T010000
END:DAYLIGHT
BEGIN:STANDARD
TZOFFSETFROM:+0200
TZOFFSETTO:+0100
TZNAME:CET
DTSTART:20251026T010000
END:STANDARD
END:VTIMEZONE
BEGIN:VEVENT
DTSTART;TZID=Europe/Berlin:20250120T153000
DTEND;TZID=Europe/Berlin:20250120T170000
DTSTAMP:20260419T203837
CREATED:20240725T101418Z
LAST-MODIFIED:20240729T094609Z
UID:10000263-1737387000-1737392400@www.familienwohnzimmer.at
SUMMARY:Lesenachmittag für Kinder ab 3 Jahren!
DESCRIPTION:Hier geht’s zum Lesenachmittag\, einfach klicken! \nVeranstaltungen im Jahreskreis
URL:https://www.familienwohnzimmer.at/event/lesenachmittag/
LOCATION:FamilienWohnZimmer\, Grazer Straße 3\, Kapfenberg\, Steiermark\, 8605\, Österreich
ATTACH;FMTTYPE=image/jpeg:https://www.familienwohnzimmer.at/wp-content/uploads/2023/08/specail_Vorlesen_AdobeStock_245067021.jpg
ORGANIZER;CN="FamilienWohnZimmer":MAILTO:fawozi@isgs.at
END:VEVENT
BEGIN:VEVENT
DTSTART;TZID=Europe/Berlin:20250123T140000
DTEND;TZID=Europe/Berlin:20250123T170000
DTSTAMP:20260419T203837
CREATED:20240725T092126Z
LAST-MODIFIED:20250206T083730Z
UID:10000226-1737640800-1737651600@www.familienwohnzimmer.at
SUMMARY:offene Spielgruppe für Kinder von 0-6 Jahren
DESCRIPTION:Groß & Klein hat´s bei uns fein! Kinder jeden Alters erobern den Indoor Spielplatz\, während sich die Großen bei einem Kaffee unterhalten. Es kann gemalt und gebastelt werden und du kannst kommen und gehen\, wie du magst. \nKostenlos\nohne Anmeldung
URL:https://www.familienwohnzimmer.at/event/offene-spielgruppe-fuer-kinder-von-0-6-jahren/2025-01-23/
LOCATION:FamilienWohnZimmer\, Grazer Straße 3\, Kapfenberg\, Steiermark\, 8605\, Österreich
ATTACH;FMTTYPE=image/jpeg:https://www.familienwohnzimmer.at/wp-content/uploads/2024/07/vavorschau_Osg_AdobeStock_442336413.jpg
ORGANIZER;CN="FamilienWohnZimmer":MAILTO:fawozi@isgs.at
END:VEVENT
BEGIN:VEVENT
DTSTART;TZID=Europe/Berlin:20250123T180000
DTEND;TZID=Europe/Berlin:20250123T200000
DTSTAMP:20260419T203837
CREATED:20240725T103330Z
LAST-MODIFIED:20240918T124349Z
UID:10000267-1737655200-1737662400@www.familienwohnzimmer.at
SUMMARY:WORKSHOP: Natürliche und ganzheitliche Unterstützung fürs Immunsystem
DESCRIPTION:Um ganzheitlich gesund durch die Erkältungszeit zu kommen\, ist eine Unterstützung des Immunsystems sehr wichtig. Mit hochwertigen ätherischen Ölen kann der Körper gestärkt und Erkältungen vorgebeugt werden. Neben den verschiedenen Anwendungsmöglichkeiten erfährst du allgemein Wissenswertes zur sicheren Verwendung von Ölen für die ganze Familie. Neben fachlichem Input werden wir einen individuell angepassten Roll-On für die Immunsystemunterstützung mischen (im Preis inkludiert). \nKosten: € 15\,- pro Person\nAnmeldung unter 0650 6905694\, fawozi@isgs.at oder online!
URL:https://www.familienwohnzimmer.at/event/workshop-natuerliche-und-ganzheitliche-unterstuetzung-fuers-immunsystem/
LOCATION:FamilienWohnZimmer\, Grazer Straße 3\, Kapfenberg\, Steiermark\, 8605\, Österreich
ATTACH;FMTTYPE=image/jpeg:https://www.familienwohnzimmer.at/wp-content/uploads/2024/07/Aroma_soap-making-5118212_1920.jpg
ORGANIZER;CN="FamilienWohnZimmer":MAILTO:fawozi@isgs.at
END:VEVENT
END:VCALENDAR