BEGIN:VCALENDAR
VERSION:2.0
PRODID:-//Familienwohnzimmer - ECPv6.14.2//NONSGML v1.0//EN
CALSCALE:GREGORIAN
METHOD:PUBLISH
X-ORIGINAL-URL:https://www.familienwohnzimmer.at
X-WR-CALDESC:Veranstaltungen für Familienwohnzimmer
REFRESH-INTERVAL;VALUE=DURATION:PT1H
X-Robots-Tag:noindex
X-PUBLISHED-TTL:PT1H
BEGIN:VTIMEZONE
TZID:Europe/Berlin
BEGIN:DAYLIGHT
TZOFFSETFROM:+0100
TZOFFSETTO:+0200
TZNAME:CEST
DTSTART:20250330T010000
END:DAYLIGHT
BEGIN:STANDARD
TZOFFSETFROM:+0200
TZOFFSETTO:+0100
TZNAME:CET
DTSTART:20251026T010000
END:STANDARD
END:VTIMEZONE
BEGIN:VEVENT
DTSTART;TZID=Europe/Berlin:20250127T090000
DTEND;TZID=Europe/Berlin:20250127T110000
DTSTAMP:20260419T190819
CREATED:20240725T121149Z
LAST-MODIFIED:20241219T145323Z
UID:10000269-1737968400-1737975600@www.familienwohnzimmer.at
SUMMARY:Online - SPRECHSTUNDE: (Ein-\, Durch-) Schlafschwierigkeiten bei Kindern
DESCRIPTION:Für dich sind die Nächte mit deinem schlaflosen Kind eine große Herausforderung? \nBei unseren Sprechstunden hast du die Möglichkeit\, dich ca. 15 Minuten mit einer Expertin zu einem bestimmten Thema auszutauschen. Für eine intensivere Beratung ist der erste Schritt getan – vielleicht merkst du aber auch: es braucht gar nicht mehr und deine Fragen wurden geklärt. \nKostenlos\nAnmeldung unter 0650 6905694 oder fawozi@isgs.at \nDeinen genauen Time Slot und den Zoom Link bekommst du nach der Anmeldung!
URL:https://www.familienwohnzimmer.at/event/online-sprechstunde-ein-durch-schlafschwierigkeiten-bei-kindern/
LOCATION:FamilienWohnZimmer\, Grazer Straße 3\, Kapfenberg\, Steiermark\, 8605\, Österreich
ATTACH;FMTTYPE=image/jpeg:https://www.familienwohnzimmer.at/wp-content/uploads/2024/07/Schalf_SS_AdobeStock_323981805.jpg
END:VEVENT
BEGIN:VEVENT
DTSTART;TZID=Europe/Berlin:20250130T140000
DTEND;TZID=Europe/Berlin:20250130T170000
DTSTAMP:20260419T190819
CREATED:20240725T092126Z
LAST-MODIFIED:20250206T083730Z
UID:10000227-1738245600-1738256400@www.familienwohnzimmer.at
SUMMARY:offene Spielgruppe für Kinder von 0-6 Jahren
DESCRIPTION:Groß & Klein hat´s bei uns fein! Kinder jeden Alters erobern den Indoor Spielplatz\, während sich die Großen bei einem Kaffee unterhalten. Es kann gemalt und gebastelt werden und du kannst kommen und gehen\, wie du magst. \nKostenlos\nohne Anmeldung
URL:https://www.familienwohnzimmer.at/event/offene-spielgruppe-fuer-kinder-von-0-6-jahren/2025-01-30/
LOCATION:FamilienWohnZimmer\, Grazer Straße 3\, Kapfenberg\, Steiermark\, 8605\, Österreich
ATTACH;FMTTYPE=image/jpeg:https://www.familienwohnzimmer.at/wp-content/uploads/2024/07/vavorschau_Osg_AdobeStock_442336413.jpg
ORGANIZER;CN="FamilienWohnZimmer":MAILTO:fawozi@isgs.at
END:VEVENT
END:VCALENDAR