BEGIN:VCALENDAR
VERSION:2.0
PRODID:-//Familienwohnzimmer - ECPv6.14.2//NONSGML v1.0//EN
CALSCALE:GREGORIAN
METHOD:PUBLISH
X-WR-CALNAME:Familienwohnzimmer
X-ORIGINAL-URL:https://www.familienwohnzimmer.at
X-WR-CALDESC:Veranstaltungen für Familienwohnzimmer
REFRESH-INTERVAL;VALUE=DURATION:PT1H
X-Robots-Tag:noindex
X-PUBLISHED-TTL:PT1H
BEGIN:VTIMEZONE
TZID:Europe/Berlin
BEGIN:DAYLIGHT
TZOFFSETFROM:+0100
TZOFFSETTO:+0200
TZNAME:CEST
DTSTART:20250330T010000
END:DAYLIGHT
BEGIN:STANDARD
TZOFFSETFROM:+0200
TZOFFSETTO:+0100
TZNAME:CET
DTSTART:20251026T010000
END:STANDARD
END:VTIMEZONE
BEGIN:VEVENT
DTSTART;TZID=Europe/Berlin:20250212T153000
DTEND;TZID=Europe/Berlin:20250212T173000
DTSTAMP:20260419T222101
CREATED:20240725T090747Z
LAST-MODIFIED:20250801T090727Z
UID:10000208-1739374200-1739381400@www.familienwohnzimmer.at
SUMMARY:Begegnungscafé - meet&talk
DESCRIPTION:Du möchtest dich mit Familien aus anderen Ländern austauschen? Du hast Migrations- oder Fluchterfahrung? Dann komm mit deinen Kindern ins Begegnungscafé. Während die Kinder spielen\, reden wir gemeinsam über Themen\, die jeden bewegen. Manchmal besuchen wir auch Vereine in Kapfenberg oder bewegen uns raus in die Natur! Details findest du am Flyer.  \nKostenlos\nohne Anmeldung\nDu hast Fragen? Melde dich einfach:\nSandra Zottler\, ISGS 0660 6780191
URL:https://www.familienwohnzimmer.at/event/begegnungscafe-meettalk/2025-02-12/
LOCATION:FamilienWohnZimmer\, Grazer Straße 3\, Kapfenberg\, Steiermark\, 8605\, Österreich
ATTACH;FMTTYPE=image/jpeg:https://www.familienwohnzimmer.at/wp-content/uploads/2024/07/vavorschau_begegnungscafe_2559531.jpg
END:VEVENT
BEGIN:VEVENT
DTSTART;TZID=Europe/Berlin:20250213T140000
DTEND;TZID=Europe/Berlin:20250213T170000
DTSTAMP:20260419T222102
CREATED:20240725T092126Z
LAST-MODIFIED:20250206T083730Z
UID:10000229-1739455200-1739466000@www.familienwohnzimmer.at
SUMMARY:offene Spielgruppe für Kinder von 0-6 Jahren
DESCRIPTION:Groß & Klein hat´s bei uns fein! Kinder jeden Alters erobern den Indoor Spielplatz\, während sich die Großen bei einem Kaffee unterhalten. Es kann gemalt und gebastelt werden und du kannst kommen und gehen\, wie du magst. \nKostenlos\nohne Anmeldung
URL:https://www.familienwohnzimmer.at/event/offene-spielgruppe-fuer-kinder-von-0-6-jahren/2025-02-13/
LOCATION:FamilienWohnZimmer\, Grazer Straße 3\, Kapfenberg\, Steiermark\, 8605\, Österreich
ATTACH;FMTTYPE=image/jpeg:https://www.familienwohnzimmer.at/wp-content/uploads/2024/07/vavorschau_Osg_AdobeStock_442336413.jpg
ORGANIZER;CN="FamilienWohnZimmer":MAILTO:fawozi@isgs.at
END:VEVENT
END:VCALENDAR