BEGIN:VCALENDAR
VERSION:2.0
PRODID:-//Familienwohnzimmer - ECPv6.14.2//NONSGML v1.0//EN
CALSCALE:GREGORIAN
METHOD:PUBLISH
X-ORIGINAL-URL:https://www.familienwohnzimmer.at
X-WR-CALDESC:Veranstaltungen für Familienwohnzimmer
REFRESH-INTERVAL;VALUE=DURATION:PT1H
X-Robots-Tag:noindex
X-PUBLISHED-TTL:PT1H
BEGIN:VTIMEZONE
TZID:Europe/Berlin
BEGIN:DAYLIGHT
TZOFFSETFROM:+0100
TZOFFSETTO:+0200
TZNAME:CEST
DTSTART:20250330T010000
END:DAYLIGHT
BEGIN:STANDARD
TZOFFSETFROM:+0200
TZOFFSETTO:+0100
TZNAME:CET
DTSTART:20251026T010000
END:STANDARD
END:VTIMEZONE
BEGIN:VEVENT
DTSTART;TZID=Europe/Berlin:20250225T170000
DTEND;TZID=Europe/Berlin:20250225T190000
DTSTAMP:20260419T234317
CREATED:20240725T121453Z
LAST-MODIFIED:20250206T141942Z
UID:10000270-1740502800-1740510000@www.familienwohnzimmer.at
SUMMARY:SPRECHSTUNDE: Psychische Belastungen erkennen
DESCRIPTION:Du erkennst bei dir\, deinem Kind oder jemanden aus deinem Umfeld Anzeichen für psychische Belastung? Hole dir Erstinformation zum Thema und besprich mit der Psychotherapeutin sinnvolle Unterstützungsmöglichkeiten! \nOft ist der erste Schritt zu einer Beratung die größte Hürde – diese wollen wir dir erleichtern! Bei unseren Sprechstunden hast du die Möglichkeit\, dich ca. 15 Minuten mit einer Expertin oder einem Experten zu einem bestimmten Thema auszutauschen. Für eine intensivere Beratung ist der erste Schritt getan – vielleicht merkst du aber auch: es braucht gar nicht mehr und deine Frage wurde geklärt. \nKostenlos\nAnmeldung unter 0650 6905694 oder fawozi@isgs.at \nDeinen genauen Time Slot bekommst du nach der Anmeldung!
URL:https://www.familienwohnzimmer.at/event/sprechstunde-psychische-belastungen-erkennen/
LOCATION:FamilienWohnZimmer\, Grazer Straße 3\, Kapfenberg\, Steiermark\, 8605\, Österreich
ATTACH;FMTTYPE=image/jpeg:https://www.familienwohnzimmer.at/wp-content/uploads/2024/07/Vavorschau_PsychSS_AdobeStock_263826454.jpg
END:VEVENT
BEGIN:VEVENT
DTSTART;TZID=Europe/Berlin:20250226T150000
DTEND;TZID=Europe/Berlin:20250226T163000
DTSTAMP:20260419T234317
CREATED:20240725T101538Z
LAST-MODIFIED:20240729T092226Z
UID:10000264-1740582000-1740587400@www.familienwohnzimmer.at
SUMMARY:Faschingsfeier
DESCRIPTION:Hier geht’s zur Faschingsfeier\, einfach klicken! \nVeranstaltungen im Jahreskreis
URL:https://www.familienwohnzimmer.at/event/faschingsfeier/
LOCATION:FamilienWohnZimmer\, Grazer Straße 3\, Kapfenberg\, Steiermark\, 8605\, Österreich
ATTACH;FMTTYPE=image/jpeg:https://www.familienwohnzimmer.at/wp-content/uploads/2023/08/special_Fasching_AdobeStock_101669308.jpg
ORGANIZER;CN="FamilienWohnZimmer":MAILTO:fawozi@isgs.at
END:VEVENT
BEGIN:VEVENT
DTSTART;TZID=Europe/Berlin:20250227T140000
DTEND;TZID=Europe/Berlin:20250227T170000
DTSTAMP:20260419T234318
CREATED:20240725T092126Z
LAST-MODIFIED:20250206T083730Z
UID:10000230-1740664800-1740675600@www.familienwohnzimmer.at
SUMMARY:offene Spielgruppe für Kinder von 0-6 Jahren
DESCRIPTION:Groß & Klein hat´s bei uns fein! Kinder jeden Alters erobern den Indoor Spielplatz\, während sich die Großen bei einem Kaffee unterhalten. Es kann gemalt und gebastelt werden und du kannst kommen und gehen\, wie du magst. \nKostenlos\nohne Anmeldung
URL:https://www.familienwohnzimmer.at/event/offene-spielgruppe-fuer-kinder-von-0-6-jahren/2025-02-27/
LOCATION:FamilienWohnZimmer\, Grazer Straße 3\, Kapfenberg\, Steiermark\, 8605\, Österreich
ATTACH;FMTTYPE=image/jpeg:https://www.familienwohnzimmer.at/wp-content/uploads/2024/07/vavorschau_Osg_AdobeStock_442336413.jpg
ORGANIZER;CN="FamilienWohnZimmer":MAILTO:fawozi@isgs.at
END:VEVENT
END:VCALENDAR