BEGIN:VCALENDAR
VERSION:2.0
PRODID:-//Familienwohnzimmer - ECPv6.14.2//NONSGML v1.0//EN
CALSCALE:GREGORIAN
METHOD:PUBLISH
X-ORIGINAL-URL:https://www.familienwohnzimmer.at
X-WR-CALDESC:Veranstaltungen für Familienwohnzimmer
REFRESH-INTERVAL;VALUE=DURATION:PT1H
X-Robots-Tag:noindex
X-PUBLISHED-TTL:PT1H
BEGIN:VTIMEZONE
TZID:Europe/Berlin
BEGIN:DAYLIGHT
TZOFFSETFROM:+0100
TZOFFSETTO:+0200
TZNAME:CEST
DTSTART:20250330T010000
END:DAYLIGHT
BEGIN:STANDARD
TZOFFSETFROM:+0200
TZOFFSETTO:+0100
TZNAME:CET
DTSTART:20251026T010000
END:STANDARD
END:VTIMEZONE
BEGIN:VEVENT
DTSTART;TZID=Europe/Berlin:20250331T090000
DTEND;TZID=Europe/Berlin:20250331T110000
DTSTAMP:20260419T222831
CREATED:20250206T095907Z
LAST-MODIFIED:20250206T151546Z
UID:10000351-1743411600-1743418800@www.familienwohnzimmer.at
SUMMARY:Sozialarbeiterische SPRECHSTUNDE: Thema Familie/Trennung/Kindeswohl
DESCRIPTION:Deine Familie ist gerade in einer schwierigen Situation? Lass dich von einer Sozialarbeiterin beraten\, welche Möglichkeiten es für euch gibt. \nOft ist der erste Schritt zu einer Beratung die größte Hürde – diese wollen wir dir erleichtern! Bei unseren Sprechstunden hast du die Möglichkeit\, dich ca. 15 Minuten mit einer Expertin oder einem Experten zu einem bestimmten Thema auszutauschen. Für eine intensivere Beratung ist der erste Schritt getan – vielleicht merkst du aber auch: es braucht gar nicht mehr und deine Frage wurde geklärt. \nKostenlos\nAnmeldung unter 0650 6905694 oder fawozi@isgs.at \nDeinen genauen Time Slot bekommst du nach der Anmeldung!
URL:https://www.familienwohnzimmer.at/event/sprechstunde-sozialarbeit/
LOCATION:FamilienWohnZimmer\, Grazer Straße 3\, Kapfenberg\, Steiermark\, 8605\, Österreich
ATTACH;FMTTYPE=image/jpeg:https://www.familienwohnzimmer.at/wp-content/uploads/2024/07/vavorschau_SozSS_AdobeStock_120689036.jpg
END:VEVENT
BEGIN:VEVENT
DTSTART;TZID=Europe/Berlin:20250331T160000
DTEND;TZID=Europe/Berlin:20250331T170000
DTSTAMP:20260419T222831
CREATED:20250206T083358Z
LAST-MODIFIED:20250206T143144Z
UID:10000302-1743436800-1743440400@www.familienwohnzimmer.at
SUMMARY:Familienyoga - Eine Reise in die Welt der Yogatiere
DESCRIPTION:Beim Kinderyoga werden Kinder spielerisch an die Yogaübungen herangeführt. Es geht dabei nicht um die korrekte Haltung der Pose\, sondern um Selbsterfahrung und Spaß an Bewegung für Kinder von 3 bis 6 Jahren. \nKosten: € 65\,- für 5 Einheiten (10.3.2025 – 7.4.2025) \nAnmeldung unter 0680 2009973 oder k.kienesberger@hiway.at \n 
URL:https://www.familienwohnzimmer.at/event/familienyoga/2025-03-31/
LOCATION:FamilienWohnZimmer\, Grazer Straße 3\, Kapfenberg\, Steiermark\, 8605\, Österreich
ATTACH;FMTTYPE=image/jpeg:https://www.familienwohnzimmer.at/wp-content/uploads/2025/02/vavorschau_Familienyoga_AdobeStock_210187231.jpg
END:VEVENT
BEGIN:VEVENT
DTSTART;TZID=Europe/Berlin:20250402T190000
DTEND;TZID=Europe/Berlin:20250402T203000
DTSTAMP:20260419T222831
CREATED:20250206T091631Z
LAST-MODIFIED:20250206T152954Z
UID:10000324-1743620400-1743625800@www.familienwohnzimmer.at
SUMMARY:Keine Angst vor Kindertränen - Die Wichtigkeit des Erlernens von Gefühlen
DESCRIPTION:Starke Gefühle wie Traurigkeit\, Angst und vor allem Wut gehören zum Alltag mit Kindern\nund bringen Erwachsene manchmal an ihre Grenzen. Welche Möglichkeiten\nhast du als Mama* und Papa*\, den Gefühlsausbrüchen zu begegnen und wie kannst\ndu dein Kind in diesen Situationen unterstützen und begleiten?\n \nKostenlos \nOnline-Vortrag\, Zoom-Link: https://us02web.zoom.us/j/5822809286\n \nDiese Veranstaltung wird als Fortbildung für Kindergartenpädagog:innen\nund Kinderbetreuer*innen im Sinne des steiermärkischen\nKinderbildungs und -betreuungsgesetzes i. d. g. F. anerkannt.
URL:https://www.familienwohnzimmer.at/event/keine-angst-vor-kindertraenen/
LOCATION:ONLINE Veranstaltung auf Zoom\, Österreich
ATTACH;FMTTYPE=image/jpeg:https://www.familienwohnzimmer.at/wp-content/uploads/2024/07/vaVorschau_Kindertraenen_AdobeStock_398528758.jpg
END:VEVENT
BEGIN:VEVENT
DTSTART;TZID=Europe/Berlin:20250403T140000
DTEND;TZID=Europe/Berlin:20250403T170000
DTSTAMP:20260419T222831
CREATED:20240725T092126Z
LAST-MODIFIED:20250206T083730Z
UID:10000235-1743688800-1743699600@www.familienwohnzimmer.at
SUMMARY:offene Spielgruppe für Kinder von 0-6 Jahren
DESCRIPTION:Groß & Klein hat´s bei uns fein! Kinder jeden Alters erobern den Indoor Spielplatz\, während sich die Großen bei einem Kaffee unterhalten. Es kann gemalt und gebastelt werden und du kannst kommen und gehen\, wie du magst. \nKostenlos\nohne Anmeldung
URL:https://www.familienwohnzimmer.at/event/offene-spielgruppe-fuer-kinder-von-0-6-jahren/2025-04-03/
LOCATION:FamilienWohnZimmer\, Grazer Straße 3\, Kapfenberg\, Steiermark\, 8605\, Österreich
ATTACH;FMTTYPE=image/jpeg:https://www.familienwohnzimmer.at/wp-content/uploads/2024/07/vavorschau_Osg_AdobeStock_442336413.jpg
ORGANIZER;CN="FamilienWohnZimmer":MAILTO:fawozi@isgs.at
END:VEVENT
BEGIN:VEVENT
DTSTART;TZID=Europe/Berlin:20250404T110000
DTEND;TZID=Europe/Berlin:20250404T120000
DTSTAMP:20260419T222831
CREATED:20250206T092918Z
LAST-MODIFIED:20250207T094930Z
UID:10000338-1743764400-1743768000@www.familienwohnzimmer.at
SUMMARY:Babymassagekurs
DESCRIPTION:für Babys im Alter von 2 – 7 Monaten \nNutze die wohltuenden Berührungen\, um die Bindung zu deinem Kind zu stärken und lerne\, genau auf seine Bedürfnisse einzugehen. Nebenbei werden Stoffwechsel\, Sinneswahrnehmungen\, Motorik und Immunsystem angeregt und Entspannung und besseres Schlafen gefördert. Darüber hinaus kann die Massage auch helfen\, schmerzhaften Blähungen und Koliken vorzubeugen bzw. sie zu lindern. Das Wichtigste aber ist – die Körpernähe und die Zeit mit dir tun deinem Baby richtig gut! \nIn 5 Einheiten lernst du spezielle Massagegriffe kennen und übst in den weiteren Einheiten die Sicherheit im Umgang damit. In einem ausführlichen Skript kannst du nachschlagen und die Griffe zuhause als tägliches Familienritual einführen. In jeder Einheit können wir aktuelle Fragen behandeln und uns über Anliegen austauschen. Damit sich dein Baby rundum wohl fühlt\, erwarten euch warme Kirschkernsäckchen sowie Massageöl. \nDer Kurs ist für Paare sehr gut geeignet\, da für jedes Paar eine Babypuppe zur Verfügung steht. \nMitzubringen sind: Stoffwindeln\, Babyhandtuch\, Wickelunterlage\, bequeme Kleidung \nKosten*: € 20\,- für ein Elternteil / € 25\,- für Paare für 5 Einheiten \nAnmeldung unter 0650 6905694 oder fawozi@isgs.at \nDieses Angebot ist gefördert vom Land Steiermark.
URL:https://www.familienwohnzimmer.at/event/babymassagekurs-2/2025-04-04/
LOCATION:FamilienWohnZimmer\, Grazer Straße 3\, Kapfenberg\, Steiermark\, 8605\, Österreich
ATTACH;FMTTYPE=image/jpeg:https://www.familienwohnzimmer.at/wp-content/uploads/2024/01/AdobeStock_292815686_Massage-scaled.jpg
END:VEVENT
END:VCALENDAR