BEGIN:VCALENDAR
VERSION:2.0
PRODID:-//Familienwohnzimmer - ECPv6.14.2//NONSGML v1.0//EN
CALSCALE:GREGORIAN
METHOD:PUBLISH
X-WR-CALNAME:Familienwohnzimmer
X-ORIGINAL-URL:https://www.familienwohnzimmer.at
X-WR-CALDESC:Veranstaltungen für Familienwohnzimmer
REFRESH-INTERVAL;VALUE=DURATION:PT1H
X-Robots-Tag:noindex
X-PUBLISHED-TTL:PT1H
BEGIN:VTIMEZONE
TZID:Europe/Berlin
BEGIN:DAYLIGHT
TZOFFSETFROM:+0100
TZOFFSETTO:+0200
TZNAME:CEST
DTSTART:20250330T010000
END:DAYLIGHT
BEGIN:STANDARD
TZOFFSETFROM:+0200
TZOFFSETTO:+0100
TZNAME:CET
DTSTART:20251026T010000
END:STANDARD
END:VTIMEZONE
BEGIN:VEVENT
DTSTART;TZID=Europe/Berlin:20250428T150000
DTEND;TZID=Europe/Berlin:20250428T163000
DTSTAMP:20260419T234943
CREATED:20250206T101726Z
LAST-MODIFIED:20250206T154056Z
UID:10000358-1745852400-1745857800@www.familienwohnzimmer.at
SUMMARY:Muttertagsbasteln
DESCRIPTION:Hier geht’s zur Veranstaltungsseite! \nVeranstaltungen im Jahreskreis
URL:https://www.familienwohnzimmer.at/event/muttertagsbasteln/
LOCATION:FamilienWohnZimmer\, Grazer Straße 3\, Kapfenberg\, Steiermark\, 8605\, Österreich
ATTACH;FMTTYPE=image/jpeg:https://www.familienwohnzimmer.at/wp-content/uploads/2025/02/VAvorschau_basteln_AdobeStock_314728247.jpg
ORGANIZER;CN="FamilienWohnZimmer":MAILTO:fawozi@isgs.at
END:VEVENT
BEGIN:VEVENT
DTSTART;TZID=Europe/Berlin:20250429T180000
DTEND;TZID=Europe/Berlin:20250429T200000
DTSTAMP:20260419T234943
CREATED:20250206T101319Z
LAST-MODIFIED:20250320T073853Z
UID:10000356-1745949600-1745956800@www.familienwohnzimmer.at
SUMMARY:WORKSHOP: Insektenfrei durch den Frühling und Sommer
DESCRIPTION:Sobald es wärmer wird\, zieht es viele nach draußen. Um alle Familienmitglieder vor Zecken\, Stechmücken usw. zu schützen\, können hochwertige ätherische Öle helfen. Diese dienen der Abwehr\, lindern den Juckreiz und unterstützen den Heilungsprozess – ganz ohne Chemie. Neben fachlichem Input werden wir einen individuell angepassten Roll-On mischen (im Preis inkludiert). \nKosten: € 15\,- pro Person\nAnmeldung unter 0650 6905694\, fawozi@isgs.at  \n \n 
URL:https://www.familienwohnzimmer.at/event/insektenfrei/
LOCATION:FamilienWohnZimmer\, Grazer Straße 3\, Kapfenberg\, Steiermark\, 8605\, Österreich
ATTACH;FMTTYPE=image/jpeg:https://www.familienwohnzimmer.at/wp-content/uploads/2024/07/Aroma_soap-making-5118212_1920.jpg
ORGANIZER;CN="FamilienWohnZimmer":MAILTO:fawozi@isgs.at
END:VEVENT
END:VCALENDAR