BEGIN:VCALENDAR
VERSION:2.0
PRODID:-//Familienwohnzimmer - ECPv6.14.2//NONSGML v1.0//EN
CALSCALE:GREGORIAN
METHOD:PUBLISH
X-WR-CALNAME:Familienwohnzimmer
X-ORIGINAL-URL:https://www.familienwohnzimmer.at
X-WR-CALDESC:Veranstaltungen für Familienwohnzimmer
REFRESH-INTERVAL;VALUE=DURATION:PT1H
X-Robots-Tag:noindex
X-PUBLISHED-TTL:PT1H
BEGIN:VTIMEZONE
TZID:Europe/Berlin
BEGIN:DAYLIGHT
TZOFFSETFROM:+0100
TZOFFSETTO:+0200
TZNAME:CEST
DTSTART:20250330T010000
END:DAYLIGHT
BEGIN:STANDARD
TZOFFSETFROM:+0200
TZOFFSETTO:+0100
TZNAME:CET
DTSTART:20251026T010000
END:STANDARD
END:VTIMEZONE
BEGIN:VEVENT
DTSTART;TZID=Europe/Berlin:20250614T090000
DTEND;TZID=Europe/Berlin:20250614T110000
DTSTAMP:20260420T041813
CREATED:20250206T080329Z
LAST-MODIFIED:20250207T105532Z
UID:10000287-1749891600-1749898800@www.familienwohnzimmer.at
SUMMARY:Papa* Café - gemütliche (Spiel)Zeit mit deinem Kind
DESCRIPTION:Alle Papas* & Opas* aufgepasst! Spielen\, bauen\, aktiv oder gemütlich sein\, alleine oder in der Gruppe – im größten Wohnzimmer Kapfenbergs. Das Papa*-Café bietet allen Papas*/Opas* einen freien Treffpunkt unter sich\, um Kontakte mit Gleichgesinnten knüpfen zu können und Erfahrungen auszutauschen. \n€ 3\,- pro Erwachsenem inkl. 1 Kaffee\nohne Anmeldung
URL:https://www.familienwohnzimmer.at/event/papa-cafe-gemuetliche-spielzeit-mit-deinem-kind-10/2025-06-14/
LOCATION:FamilienWohnZimmer\, Grazer Straße 3\, Kapfenberg\, Steiermark\, 8605\, Österreich
ATTACH;FMTTYPE=image/jpeg:https://www.familienwohnzimmer.at/wp-content/uploads/2023/01/AdobeStock_260355791-scaled.jpg
ORGANIZER;CN="FamilienWohnZimmer":MAILTO:fawozi@isgs.at
END:VEVENT
END:VCALENDAR