BEGIN:VCALENDAR
VERSION:2.0
PRODID:-//Familienwohnzimmer - ECPv6.14.2//NONSGML v1.0//EN
CALSCALE:GREGORIAN
METHOD:PUBLISH
X-ORIGINAL-URL:https://www.familienwohnzimmer.at
X-WR-CALDESC:Veranstaltungen für Familienwohnzimmer
REFRESH-INTERVAL;VALUE=DURATION:PT1H
X-Robots-Tag:noindex
X-PUBLISHED-TTL:PT1H
BEGIN:VTIMEZONE
TZID:Europe/Berlin
BEGIN:DAYLIGHT
TZOFFSETFROM:+0100
TZOFFSETTO:+0200
TZNAME:CEST
DTSTART:20250330T010000
END:DAYLIGHT
BEGIN:STANDARD
TZOFFSETFROM:+0200
TZOFFSETTO:+0100
TZNAME:CET
DTSTART:20251026T010000
END:STANDARD
END:VTIMEZONE
BEGIN:VEVENT
DTSTART;TZID=Europe/Berlin:20250617T180000
DTEND;TZID=Europe/Berlin:20250617T200000
DTSTAMP:20260420T052604
CREATED:20250206T101532Z
LAST-MODIFIED:20250610T061735Z
UID:10000357-1750183200-1750190400@www.familienwohnzimmer.at
SUMMARY:WORKSHOP: Emotionale Unterstützung mit ätherischen Ölen
DESCRIPTION:Die emotionale Entwicklung verläuft bei Kindern unterschiedlich. Jeder kennt Wut\, Überforderung\, Angst oder Unsicherheit. Um die Kinder (aber auch die Eltern) auf natürliche Weise zu unterstützen\, können entsprechende hochwertige ätherische Öle eingesetzt werden. Wertvoll für den Kindergarten- oder Schulstart! Neben fachlichem Input werden wir einen individuell angepassten Roll-On mischen (im Preis inkludiert). \nKosten: € 15\,- pro Person\nAnmeldung unter 0650 6905694\, fawozi@isgs.at 
URL:https://www.familienwohnzimmer.at/event/workshop-emotionale-unterstuetzung-mit-aetherischen-oelen/
LOCATION:FamilienWohnZimmer\, Grazer Straße 3\, Kapfenberg\, Steiermark\, 8605\, Österreich
CATEGORIES:Vorträge & Workshops
ATTACH;FMTTYPE=image/jpeg:https://www.familienwohnzimmer.at/wp-content/uploads/2024/07/Aroma_soap-making-5118212_1920.jpg
ORGANIZER;CN="FamilienWohnZimmer":MAILTO:fawozi@isgs.at
END:VEVENT
END:VCALENDAR