BEGIN:VCALENDAR
VERSION:2.0
PRODID:-//Familienwohnzimmer - ECPv6.14.2//NONSGML v1.0//EN
CALSCALE:GREGORIAN
METHOD:PUBLISH
X-WR-CALNAME:Familienwohnzimmer
X-ORIGINAL-URL:https://www.familienwohnzimmer.at
X-WR-CALDESC:Veranstaltungen für Familienwohnzimmer
REFRESH-INTERVAL;VALUE=DURATION:PT1H
X-Robots-Tag:noindex
X-PUBLISHED-TTL:PT1H
BEGIN:VTIMEZONE
TZID:Europe/Berlin
BEGIN:DAYLIGHT
TZOFFSETFROM:+0100
TZOFFSETTO:+0200
TZNAME:CEST
DTSTART:20250330T010000
END:DAYLIGHT
BEGIN:STANDARD
TZOFFSETFROM:+0200
TZOFFSETTO:+0100
TZNAME:CET
DTSTART:20251026T010000
END:STANDARD
END:VTIMEZONE
BEGIN:VEVENT
DTSTART;TZID=Europe/Berlin:20251006T090000
DTEND;TZID=Europe/Berlin:20251006T110000
DTSTAMP:20260420T133012
CREATED:20250730T074451Z
LAST-MODIFIED:20250730T080021Z
UID:10000437-1759741200-1759748400@www.familienwohnzimmer.at
SUMMARY:SPRECHSTUNDE zur Mediennutzung von Kindern und Jugendlichen
DESCRIPTION:Du hast Fragen zum Bereich digitale Spiele/Mediennutzung deines Kindes?\nLass dich von einem Experten dazu beraten! \nBei unseren Sprechstunden hast du die Möglichkeit\, dich ca. 15 Minuten mit einer Expertin zu einem bestimmten Thema auszutauschen. Für eine intensivere Beratung ist der erste Schritt getan – vielleicht merkst du aber auch: es braucht gar nicht mehr und deine Fragen wurden geklärt. \nMehr zum Thema \nKostenlos\nAnmeldung unter 0650 6905694 oder fawozi@isgs.at \nDeinen genauen Time Slot und den Zoom-Link bekommst du nach der Anmeldung!
URL:https://www.familienwohnzimmer.at/event/sprechstunde-zur-mediennutzung-von-kindern-und-jugendlichen/
LOCATION:ONLINE Veranstaltung auf Zoom\, Österreich
ATTACH;FMTTYPE=image/jpeg:https://www.familienwohnzimmer.at/wp-content/uploads/2025/05/teenager-6981761_640.jpeg
END:VEVENT
BEGIN:VEVENT
DTSTART;TZID=Europe/Berlin:20251006T160000
DTEND;TZID=Europe/Berlin:20251006T190000
DTSTAMP:20260420T133012
CREATED:20250801T063353Z
LAST-MODIFIED:20250801T064248Z
UID:10000405-1759766400-1759777200@www.familienwohnzimmer.at
SUMMARY:Geburtsvorbereitungskurs
DESCRIPTION:In diesem ganzheitlichen Kurs wirst du optimal auf deine restliche Schwangerschaft\, Geburt\, Wochenbett\, Stillen und ein entspanntes Familienleben vorbereitet. Geburtserleichternde Maßnahmen\, Atem- und Entspannungsübungen oder Gespräche über frühere traumatische Geburten können Teil des Kurses sein – einfach alles was du brauchst! \nBeim kostenlosen Zusatztermin erhältst du viele Tipps\, wie du eine gesunde Bindung zu deinem Baby\naufbauen kannst und praktische Hilfen für Behördenwege (durchgeführt vom ebz Bruck/Mur).  \nTermine:\nMontag\, 6.10.\, 13.10.2025 und 20.10.2025 (kostenloser Zusatztermin)\nMontag\, 2.2.\, 9.2.2026 und 11.2.2026 (kostenloser Zusatztermin)\nZeit: 16:00 – 19:00\nKosten: € 90\,- für Frauen / €120\,- für Paare \nAnmeldung unter 0650 6905694 oder online
URL:https://www.familienwohnzimmer.at/event/geburtsvorbereitungskurs-2/2025-10-06/
LOCATION:Steiermark
ATTACH;FMTTYPE=image/jpeg:https://www.familienwohnzimmer.at/wp-content/uploads/2024/07/vavorschau_gebv_Firefly-schwangere-frauen-geburtsvorbereitungskurs-maenner-56650.jpg
END:VEVENT
BEGIN:VEVENT
DTSTART;TZID=Europe/Berlin:20251007T090000
DTEND;TZID=Europe/Berlin:20251007T110000
DTSTAMP:20260420T133012
CREATED:20250408T085121Z
LAST-MODIFIED:20250610T061732Z
UID:10000432-1759827600-1759834800@www.familienwohnzimmer.at
SUMMARY:SPRECHSTUNDE zur Kinderphysiotherapie
DESCRIPTION:Du hast Fragen zur motorischen Entwicklung deines Kindes? \nBei unseren Sprechstunden hast du die Möglichkeit\, dich ca. 15 Minuten mit einer Expertin zu einem bestimmten Thema auszutauschen. Für eine intensivere Beratung ist der erste Schritt getan – vielleicht merkst du aber auch: es braucht gar nicht mehr und deine Fragen wurden geklärt. \nKostenlos\nAnmeldung unter 0650 6905694 oder fawozi@isgs.at \nDeinen genauen Time Slot bekommst du nach der Anmeldung!
URL:https://www.familienwohnzimmer.at/event/kinderphysio/
LOCATION:FamilienWohnZimmer\, Grazer Straße 3\, Kapfenberg\, Steiermark\, 8605\, Österreich
CATEGORIES:Vorträge & Workshops
ATTACH;FMTTYPE=image/jpeg:https://www.familienwohnzimmer.at/wp-content/uploads/2024/07/vavorschau_kinderfuesse_AdobeStock_643517414_Kinderfuesse.jpg
END:VEVENT
END:VCALENDAR