BEGIN:VCALENDAR
VERSION:2.0
PRODID:-//Familienwohnzimmer - ECPv6.14.2//NONSGML v1.0//EN
CALSCALE:GREGORIAN
METHOD:PUBLISH
X-ORIGINAL-URL:https://www.familienwohnzimmer.at
X-WR-CALDESC:Veranstaltungen für Familienwohnzimmer
REFRESH-INTERVAL;VALUE=DURATION:PT1H
X-Robots-Tag:noindex
X-PUBLISHED-TTL:PT1H
BEGIN:VTIMEZONE
TZID:Europe/Berlin
BEGIN:DAYLIGHT
TZOFFSETFROM:+0100
TZOFFSETTO:+0200
TZNAME:CEST
DTSTART:20250330T010000
END:DAYLIGHT
BEGIN:STANDARD
TZOFFSETFROM:+0200
TZOFFSETTO:+0100
TZNAME:CET
DTSTART:20251026T010000
END:STANDARD
END:VTIMEZONE
BEGIN:VEVENT
DTSTART;TZID=Europe/Berlin:20251013T160000
DTEND;TZID=Europe/Berlin:20251013T190000
DTSTAMP:20260420T150241
CREATED:20250801T063353Z
LAST-MODIFIED:20250801T064248Z
UID:10000443-1760371200-1760382000@www.familienwohnzimmer.at
SUMMARY:Geburtsvorbereitungskurs
DESCRIPTION:In diesem ganzheitlichen Kurs wirst du optimal auf deine restliche Schwangerschaft\, Geburt\, Wochenbett\, Stillen und ein entspanntes Familienleben vorbereitet. Geburtserleichternde Maßnahmen\, Atem- und Entspannungsübungen oder Gespräche über frühere traumatische Geburten können Teil des Kurses sein – einfach alles was du brauchst! \nBeim kostenlosen Zusatztermin erhältst du viele Tipps\, wie du eine gesunde Bindung zu deinem Baby\naufbauen kannst und praktische Hilfen für Behördenwege (durchgeführt vom ebz Bruck/Mur).  \nTermine:\nMontag\, 6.10.\, 13.10.2025 und 20.10.2025 (kostenloser Zusatztermin)\nMontag\, 2.2.\, 9.2.2026 und 11.2.2026 (kostenloser Zusatztermin)\nZeit: 16:00 – 19:00\nKosten: € 90\,- für Frauen / €120\,- für Paare \nAnmeldung unter 0650 6905694 oder online
URL:https://www.familienwohnzimmer.at/event/geburtsvorbereitungskurs-2/2025-10-13/
LOCATION:Steiermark
ATTACH;FMTTYPE=image/jpeg:https://www.familienwohnzimmer.at/wp-content/uploads/2024/07/vavorschau_gebv_Firefly-schwangere-frauen-geburtsvorbereitungskurs-maenner-56650.jpg
END:VEVENT
BEGIN:VEVENT
DTSTART;TZID=Europe/Berlin:20251015T190000
DTEND;TZID=Europe/Berlin:20251015T203000
DTSTAMP:20260420T150241
CREATED:20250408T080235Z
LAST-MODIFIED:20250610T061732Z
UID:10000430-1760554800-1760560200@www.familienwohnzimmer.at
SUMMARY:Verhaltensauffällig – Kinder\, die Probleme machen\, sind Kinder\, die Probleme haben
DESCRIPTION:„Zur Verhaltensauffälligkeit gehören immer zwei. Einer\, der sich auffällig verhält\, und einer\, dem das Verhalten auffällt!“ (Helmut Heid)\nIn dem Vortrag lernst du \, genauer hinzuschauen\, um die kindlichen Verhaltenssignale zu erkennen und die zugrundeliegenden Bedürfnisse wahrzunehmen. Das hilft dabei\, dass wir unsere Kinder in herausfordernden Situationen bestmöglich unterstützen können.\n \nKostenlos \nOnline-Vortrag\, Zoom-Link: https://us02web.zoom.us/j/5822809286\n \nDiese Veranstaltung wird als Fortbildung für Kindergartenpädagog:innen\nund Kinderbetreuer*innen im Sinne des steiermärkischen\nKinderbildungs und -betreuungsgesetzes i. d. g. F. anerkannt.
URL:https://www.familienwohnzimmer.at/event/verhaltensauffaellig/
LOCATION:ONLINE Veranstaltung auf Zoom\, Österreich
CATEGORIES:Vorträge & Workshops
ATTACH;FMTTYPE=image/jpeg:https://www.familienwohnzimmer.at/wp-content/uploads/2025/04/verhalten_AdobeStock_292704235-Kopie.jpg
END:VEVENT
END:VCALENDAR