BEGIN:VCALENDAR
VERSION:2.0
PRODID:-//Familienwohnzimmer - ECPv6.14.2//NONSGML v1.0//EN
CALSCALE:GREGORIAN
METHOD:PUBLISH
X-WR-CALNAME:Familienwohnzimmer
X-ORIGINAL-URL:https://www.familienwohnzimmer.at
X-WR-CALDESC:Veranstaltungen für Familienwohnzimmer
REFRESH-INTERVAL;VALUE=DURATION:PT1H
X-Robots-Tag:noindex
X-PUBLISHED-TTL:PT1H
BEGIN:VTIMEZONE
TZID:Europe/Berlin
BEGIN:DAYLIGHT
TZOFFSETFROM:+0100
TZOFFSETTO:+0200
TZNAME:CEST
DTSTART:20260329T010000
END:DAYLIGHT
BEGIN:STANDARD
TZOFFSETFROM:+0200
TZOFFSETTO:+0100
TZNAME:CET
DTSTART:20261025T010000
END:STANDARD
END:VTIMEZONE
BEGIN:VEVENT
DTSTART;TZID=Europe/Berlin:20260610T104500
DTEND;TZID=Europe/Berlin:20260610T114500
DTSTAMP:20260421T231312
CREATED:20260211T134606Z
LAST-MODIFIED:20260319T131211Z
UID:10000623-1781088300-1781091900@www.familienwohnzimmer.at
SUMMARY:Rückenfit im Mama-Alltag
DESCRIPTION:Dieser Kurs ist speziell für Mamas gedacht\, deren Alltag oft alles fordert – nur nicht den Rücken schont. Mit gezielten\, praxisnahen Übungen kräftigen wir Rücken\, Bauch und Beckenboden und verbessern Haltung und Beweglichkeit. Dabei orientieren sich die Übungen an typischen Alltagssituationen wie Tragen\, Heben oder Stillen. Ziel ist es\, Rückenschmerzen vorzubeugen\, neue Kraft zu gewinnen und dich im Mama-Alltag wieder stabiler und wohler in deinem Körper zu fühlen. Der Kurs bietet außerdem Raum für Entspannung\, bewusste Atmung und einen achtsamen Umgang mit dir selbst. (Ab abgeschlossenener Rückbildung) \nLeitung: Stefanie Findenig\, Gesundheitstrainerin\nTermine: Mittwoch ab 6.5.2026\, 8 Einheiten\nZeit: 10:45 – 11:45 Uhr\nRaum: ISGS Drehscheibe Erdgeschoß\nBildungsscheck der VHS kann hier eingelöst werden!\nKosten & Anmeldung: Kurs Nr. 347 www.vshsstmk.at
URL:https://www.familienwohnzimmer.at/event/rueckenfit-im-mama-alltag/2026-06-10/
LOCATION:ISGS Drehscheibe\, Raum EG\, Grazer Straße 3\, Kapfenberg\, Steiermark\, 8605\, Österreich
CATEGORIES:Kurse für Kinder und Eltern
ATTACH;FMTTYPE=image/jpeg:https://www.familienwohnzimmer.at/wp-content/uploads/2026/02/rueckenfit_AdobeStock_291247615-Kopie.jpg
END:VEVENT
BEGIN:VEVENT
DTSTART;TZID=Europe/Berlin:20260610T120000
DTEND;TZID=Europe/Berlin:20260610T130000
DTSTAMP:20260421T231312
CREATED:20260319T124624Z
LAST-MODIFIED:20260319T124625Z
UID:10000531-1781092800-1781096400@www.familienwohnzimmer.at
SUMMARY:Schwangerschaftsgymnastik
DESCRIPTION:Dieser Kurs begleitet dich achtsam und stärkend durch deine Schwangerschaft. Mit sanften Bewegungen\, Atemübungen und gezielter Kräftigung unterstütze ich dich dabei\, dich in deinem Körper wohlzufühlen\, typische Beschwerden zu lindern und Vertrauen in deine eigene Kraft zu entwickeln. Die Übungen sind liebevoll angepasst an die verschiedenen Phasen der Schwangerschaft und eignen sich ab dem 2. Trimester (bzw. nach Rücksprache auch früher). Neben Bewegung bleibt Raum für Entspannung\, Wahrnehmung und Austausch. \nLeitung: Stefanie Findenig\, Gesundheitstrainerin\nTermine: Mittwoch ab 6.5.2026\, 8 Einheiten\nZeit: 12:00 – 13:00 Uhr\nRaum: ISGS Drehscheibe Erdgeschoß\nBildungsscheck der VHS kann hier eingelöst werden.\nKosten & Anmeldung: www.vshsstmk.at
URL:https://www.familienwohnzimmer.at/event/schwangerschaftsgymnastik-2-2/2026-06-10/
LOCATION:ISGS Drehscheibe\, Raum EG\, Grazer Straße 3\, Kapfenberg\, Steiermark\, 8605\, Österreich
ATTACH;FMTTYPE=image/jpeg:https://www.familienwohnzimmer.at/wp-content/uploads/2026/01/babybauchzeit_AdobeStock_126413807.jpg
END:VEVENT
BEGIN:VEVENT
DTSTART;TZID=Europe/Berlin:20260611T113000
DTEND;TZID=Europe/Berlin:20260611T123000
DTSTAMP:20260421T231312
CREATED:20260212T111151Z
LAST-MODIFIED:20260212T111151Z
UID:10000607-1781177400-1781181000@www.familienwohnzimmer.at
SUMMARY:Babymassagekurs
DESCRIPTION:für Babys im Alter von 2 – 7 Monaten \nNutze die wohltuenden Berührungen\, um die Bindung zu deinem Kind zu stärken und lerne\, genau auf seine Bedürfnisse einzugehen. Nebenbei werden Stoffwechsel\, Sinneswahrnehmungen\, Motorik und Immunsystem angeregt und Entspannung und besseres Schlafen gefördert. Darüber hinaus kann die Massage auch helfen\, schmerzhaften Blähungen und Koliken vorzubeugen bzw. sie zu lindern. Das Wichtigste aber ist – die Körpernähe und die Zeit mit dir tun deinem Baby richtig gut! \nLeitung: Verena Stangl-Hörmann\, zert. Babymassage-Kursleiterin \nKosten: 3-teiliger Kurs € 45\,-
URL:https://www.familienwohnzimmer.at/event/babymassage/2026-06-11/
LOCATION:Steiermark
ATTACH;FMTTYPE=image/jpeg:https://www.familienwohnzimmer.at/wp-content/uploads/2024/07/ueberblick_babymassage.jpg
ORGANIZER;CN="FamilienWohnZimmer":MAILTO:fawozi@isgs.at
END:VEVENT
BEGIN:VEVENT
DTSTART;TZID=Europe/Berlin:20260612T150000
DTEND;TZID=Europe/Berlin:20260612T161500
DTSTAMP:20260421T231312
CREATED:20260211T135554Z
LAST-MODIFIED:20260211T135554Z
UID:10000577-1781276400-1781280900@www.familienwohnzimmer.at
SUMMARY:Mawiba - Mama-Baby-Tanz
DESCRIPTION:MAWIBA® ist ein Tanzkonzept mit sanftem Beckenbodentraining für Schwangere\, Mamas mit Babys und alle Frauen\, jeder Altersklasse\, die Spaß am Tanzen haben. Während du zu beckenbodenstärkenden Choreografien tanzt und dabei deine Haltung und Fitness verbesserst\, kuschelt sich dein Baby in einer Tragehilfe an dich. \nLeitung: Petra Radak\, MAWIBA®-Trainerin\nKurs 1: Fr\, 8.5. – 3.7.2026\, 15:00 – 16:15\nKurs 2: Fr\, 10.7. – 21.8.2026\, 9:30 – 10:45\nRaum: ISGS Drehscheibe Erdgeschoß\nKosten: € 48\,- für 6 Einheiten\nAnmeldung: 0650 2406026 oder PRadak@mawibatrainer.com
URL:https://www.familienwohnzimmer.at/event/mawiba-mama-baby-tanz/2026-06-12/
LOCATION:ISGS Drehscheibe\, Raum EG\, Grazer Straße 3\, Kapfenberg\, Steiermark\, 8605\, Österreich
ATTACH;FMTTYPE=image/jpeg:https://www.familienwohnzimmer.at/wp-content/uploads/2026/02/mawiba_AdobeStock_132932468-Kopie.jpg
ORGANIZER;CN="Leitung%3A Petra Radak%2C Mawiba-Trainerin":MAILTO:PRadak@mawibatrainer.com
END:VEVENT
END:VCALENDAR