BEGIN:VCALENDAR
VERSION:2.0
PRODID:-//Familienwohnzimmer - ECPv6.14.2//NONSGML v1.0//EN
CALSCALE:GREGORIAN
METHOD:PUBLISH
X-ORIGINAL-URL:https://www.familienwohnzimmer.at
X-WR-CALDESC:Veranstaltungen für Familienwohnzimmer
REFRESH-INTERVAL;VALUE=DURATION:PT1H
X-Robots-Tag:noindex
X-PUBLISHED-TTL:PT1H
BEGIN:VTIMEZONE
TZID:Europe/Berlin
BEGIN:DAYLIGHT
TZOFFSETFROM:+0100
TZOFFSETTO:+0200
TZNAME:CEST
DTSTART:20260329T010000
END:DAYLIGHT
BEGIN:STANDARD
TZOFFSETFROM:+0200
TZOFFSETTO:+0100
TZNAME:CET
DTSTART:20261025T010000
END:STANDARD
END:VTIMEZONE
BEGIN:VEVENT
DTSTART;TZID=Europe/Berlin:20260922T190000
DTEND;TZID=Europe/Berlin:20260922T203000
DTSTAMP:20260421T170244
CREATED:20260109T080906Z
LAST-MODIFIED:20260113T075723Z
UID:10000498-1790103600-1790109000@www.familienwohnzimmer.at
SUMMARY:"Es passt so wie ich bin" - Innere Stärke als Schutzfaktor
DESCRIPTION:Durch aufmerksame Zuwendung der Bezugsperson\, erleben sich Kinder als wertvoll und einzigartig. In diesem Webinar erfährst du die wichtigen Zusammenhänge von Selbstwertgefühl\, Selbstvertrauen und Selbstwirksamkeitserwartung. Wie bildet sich eine ICH Stärke? Lerne\, wie durch eine interessierte Begleitung der Bezugspersonen bei alltäglichen Herausforderungen die  innere Stärke und Zuversicht von Kindern gefördert werden kann. \nKostenlos!\nAnmeldung und Link unter fawozi@isgs.at \nDiese Veranstaltung wird als Fortbildung für Kindergartenpädagog:innen und Kinderbetreuer*innen im Sinne des steiermärkischen Kinderbildungs und -betreuungsgesetzes i. d. g. F. anerkannt.
URL:https://www.familienwohnzimmer.at/event/es-passt-so-wie-ich-bin-innere-staerke-als-schutzfaktor/
LOCATION:ONLINE Veranstaltung auf Zoom\, Österreich
CATEGORIES:Vorträge & Workshops
ATTACH;FMTTYPE=image/jpeg:https://www.familienwohnzimmer.at/wp-content/uploads/2026/01/resilienz_AdobeStock_141429826_Spielplatz-Kopie.jpg
ORGANIZER;CN="FamilienWohnZimmer":MAILTO:fawozi@isgs.at
END:VEVENT
END:VCALENDAR