BEGIN:VCALENDAR
VERSION:2.0
PRODID:-//Familienwohnzimmer - ECPv6.14.2//NONSGML v1.0//EN
CALSCALE:GREGORIAN
METHOD:PUBLISH
X-WR-CALNAME:Familienwohnzimmer
X-ORIGINAL-URL:https://www.familienwohnzimmer.at
X-WR-CALDESC:Veranstaltungen für Familienwohnzimmer
REFRESH-INTERVAL;VALUE=DURATION:PT1H
X-Robots-Tag:noindex
X-PUBLISHED-TTL:PT1H
BEGIN:VTIMEZONE
TZID:Europe/Berlin
BEGIN:DAYLIGHT
TZOFFSETFROM:+0100
TZOFFSETTO:+0200
TZNAME:CEST
DTSTART:20260329T010000
END:DAYLIGHT
BEGIN:STANDARD
TZOFFSETFROM:+0200
TZOFFSETTO:+0100
TZNAME:CET
DTSTART:20261025T010000
END:STANDARD
END:VTIMEZONE
BEGIN:VEVENT
DTSTART;TZID=Europe/Berlin:20260423T150000
DTEND;TZID=Europe/Berlin:20260423T160000
DTSTAMP:20260419T153909
CREATED:20260212T104831Z
LAST-MODIFIED:20260212T105530Z
UID:10000594-1776956400-1776960000@www.familienwohnzimmer.at
SUMMARY:Kreativgruppe mit Bastelschwerpunkt
DESCRIPTION:Du hast ein bastelbegeistertes Kind über 2\,5 Jahren? Dann seid ihr in dieser Gruppe genau richtig. \n5er Block zu gesamt 15\,- inkl. Bastelmaterial\nAnmeldung online oder 0650 6905694 \nInfos zu den genauen Terminen findest du hier https://www.familienwohnzimmer.at/eki-gruppen/kreativ-gruppe/
URL:https://www.familienwohnzimmer.at/event/kreativgruppe-mit-bestelschwerpunkt/2026-04-23/
LOCATION:FamilienWohnZimmer\, Grazer Straße 3\, Kapfenberg\, Steiermark\, 8605\, Österreich
ATTACH;FMTTYPE=image/jpeg:https://www.familienwohnzimmer.at/wp-content/uploads/2025/02/VAvorschau_basteln_AdobeStock_314728247.jpg
ORGANIZER;CN="FamilienWohnZimmer":MAILTO:fawozi@isgs.at
END:VEVENT
BEGIN:VEVENT
DTSTART;TZID=Europe/Berlin:20260424T110000
DTEND;TZID=Europe/Berlin:20260424T120000
DTSTAMP:20260419T153909
CREATED:20260211T135252Z
LAST-MODIFIED:20260211T135252Z
UID:10000568-1777028400-1777032000@www.familienwohnzimmer.at
SUMMARY:Mama-Baby-Yoga
DESCRIPTION:Durch eine achtsame\, aufbauende und spielerische Übungsreihe wird dein Baby liebevoll in deine Yogapraxis miteinbezogen – für Stressabbau und tiefe Entspannung bei Mutter und Kind.\nDu kräftigst sanft deinen Beckenboden\, löst Verspannungen\, unterstützt ein sanftes Figurtraining und findest Raum für Austausch mit anderen Müttern – getragen von Bewegungsflows\, Atemübungen und Mantren. \nLeitung: Bernadette Thamer\, Yogalehrerin\nTermine: Freitag 10.4.\, 17.4.\, 24.4.\, 8.5.\, 22.5. und 29.5.2026\nZeit: 11:00 – 12:00 Uhr\nRaum: Familienwohnzimmer 1. Stock\nKosten: € 60\,- für alle Einheiten\nAnmeldung: 0670 2022735
URL:https://www.familienwohnzimmer.at/event/mama-baby-yoga/2026-04-24/
LOCATION:FamilienWohnZimmer\, Grazer Straße 3\, Kapfenberg\, Steiermark\, 8605\, Österreich
CATEGORIES:Kurse für Kinder und Eltern
ATTACH;FMTTYPE=image/jpeg:https://www.familienwohnzimmer.at/wp-content/uploads/2026/01/Rueckb_AdobeStock_272815449-Kopie.jpg
END:VEVENT
BEGIN:VEVENT
DTSTART;TZID=Europe/Berlin:20260424T133000
DTEND;TZID=Europe/Berlin:20260424T143000
DTSTAMP:20260419T153909
CREATED:20260211T133833Z
LAST-MODIFIED:20260306T103110Z
UID:10000540-1777037400-1777041000@www.familienwohnzimmer.at
SUMMARY:Rückbildungskurs
DESCRIPTION:Hier steht die sanfte Kräftigung des Beckenbodens sowie der Bauch- und Rückenmuskulatur im Mittelpunkt. Mit gezielten Übungen\, Atemarbeit und Körperwahrnehmung unterstütze ich dich dabei\, nach Schwangerschaft und Geburt wieder Stabilität\, Kraft und Vertrauen in deinen Körper zu finden. Der Kurs ist auf die Bedürfnisse nach der Geburt abgestimmt und bietet Raum für Austausch und Fragen. Dein Baby ist herzlich willkommen. Stillen\, Tragen und Pausen sind jederzeit möglich. (Ab der 8. Woche nach Geburt bzw. nach ärztlicher Abklärung) \nLeitung: Stefanie Findenig\, Gesundheitstrainerin\nTermine: Freitag ab 6.3.2026\, 10 Einheiten\nZeit: 13:30 – 14:30 Uhr\nRaum: Familienwohnzimmer 1. Stock\nBildungsscheck der VHS kann hier eingelöst werden!\nKosten & Anmeldung: Kurs Nr. 344 www.vshsstmk.at
URL:https://www.familienwohnzimmer.at/event/rueckbildungskurs/2026-04-24/
LOCATION:FamilienWohnZimmer\, Grazer Straße 3\, Kapfenberg\, Steiermark\, 8605\, Österreich
CATEGORIES:Kurse für Kinder und Eltern
ATTACH;FMTTYPE=image/jpeg:https://www.familienwohnzimmer.at/wp-content/uploads/2026/01/Babfit_AdobeStock_159882349-Kopie.jpg
END:VEVENT
BEGIN:VEVENT
DTSTART;TZID=Europe/Berlin:20260427T160000
DTEND;TZID=Europe/Berlin:20260427T173000
DTSTAMP:20260419T153909
CREATED:20260212T110501Z
LAST-MODIFIED:20260212T110501Z
UID:10000602-1777305600-1777311000@www.familienwohnzimmer.at
SUMMARY:Do's & Don'ts für eine gute Bindung
DESCRIPTION:Ohne menschliche Nähe\, Schutz und Zuwendung kann ein Baby nicht gedeihen\, ein Neugeborenes braucht Liebe\, Geborgenheit\, Sicherheit und Schutz\, um neugierig ihre Welt entdecken zu können. Wie sieht ein guter und sicherer Bindungsaufbau aus? Welche Faktoren sind dabei ausschlaggebend und wo kann ich mich hinwenden\, sollte doch mal etwas schief laufen? \nKostenlos\nAnmeldung unter 0650 6905694
URL:https://www.familienwohnzimmer.at/event/dos-donts-fuer-eine-gute-bindung/2026-04-27/
LOCATION:FamilienWohnZimmer\, Grazer Straße 3\, Kapfenberg\, Steiermark\, 8605\, Österreich
CATEGORIES:Vorträge & Workshops
ATTACH;FMTTYPE=image/jpeg:https://www.familienwohnzimmer.at/wp-content/uploads/2025/02/Bindung_AdobeStock_166998197-Kopie.jpg
END:VEVENT
BEGIN:VEVENT
DTSTART;TZID=Europe/Berlin:20260430T160000
DTEND;TZID=Europe/Berlin:20260430T170000
DTSTAMP:20260419T153909
CREATED:20260212T103644Z
LAST-MODIFIED:20260410T054943Z
UID:10000584-1777564800-1777568400@www.familienwohnzimmer.at
SUMMARY:Muttertagsbasteln
DESCRIPTION:Bastle ein Geschenk für die liebste Mama der Welt. \nHier geht’s zur Veranstaltungsseite! \nVeranstaltungen im Jahreskreis
URL:https://www.familienwohnzimmer.at/event/muttertagsbasteln-2/
LOCATION:FamilienWohnZimmer\, Grazer Straße 3\, Kapfenberg\, Steiermark\, 8605\, Österreich
ATTACH;FMTTYPE=image/jpeg:https://www.familienwohnzimmer.at/wp-content/uploads/2025/02/VAvorschau_basteln_AdobeStock_314728247.jpg
ORGANIZER;CN="FamilienWohnZimmer":MAILTO:fawozi@isgs.at
END:VEVENT
BEGIN:VEVENT
DTSTART;TZID=Europe/Berlin:20260501T110000
DTEND;TZID=Europe/Berlin:20260501T120000
DTSTAMP:20260419T153909
CREATED:20260211T135252Z
LAST-MODIFIED:20260211T135252Z
UID:10000569-1777633200-1777636800@www.familienwohnzimmer.at
SUMMARY:Mama-Baby-Yoga
DESCRIPTION:Durch eine achtsame\, aufbauende und spielerische Übungsreihe wird dein Baby liebevoll in deine Yogapraxis miteinbezogen – für Stressabbau und tiefe Entspannung bei Mutter und Kind.\nDu kräftigst sanft deinen Beckenboden\, löst Verspannungen\, unterstützt ein sanftes Figurtraining und findest Raum für Austausch mit anderen Müttern – getragen von Bewegungsflows\, Atemübungen und Mantren. \nLeitung: Bernadette Thamer\, Yogalehrerin\nTermine: Freitag 10.4.\, 17.4.\, 24.4.\, 8.5.\, 22.5. und 29.5.2026\nZeit: 11:00 – 12:00 Uhr\nRaum: Familienwohnzimmer 1. Stock\nKosten: € 60\,- für alle Einheiten\nAnmeldung: 0670 2022735
URL:https://www.familienwohnzimmer.at/event/mama-baby-yoga/2026-05-01/
LOCATION:FamilienWohnZimmer\, Grazer Straße 3\, Kapfenberg\, Steiermark\, 8605\, Österreich
CATEGORIES:Kurse für Kinder und Eltern
ATTACH;FMTTYPE=image/jpeg:https://www.familienwohnzimmer.at/wp-content/uploads/2026/01/Rueckb_AdobeStock_272815449-Kopie.jpg
END:VEVENT
BEGIN:VEVENT
DTSTART;TZID=Europe/Berlin:20260501T133000
DTEND;TZID=Europe/Berlin:20260501T143000
DTSTAMP:20260419T153909
CREATED:20260211T133833Z
LAST-MODIFIED:20260306T103110Z
UID:10000541-1777642200-1777645800@www.familienwohnzimmer.at
SUMMARY:Rückbildungskurs
DESCRIPTION:Hier steht die sanfte Kräftigung des Beckenbodens sowie der Bauch- und Rückenmuskulatur im Mittelpunkt. Mit gezielten Übungen\, Atemarbeit und Körperwahrnehmung unterstütze ich dich dabei\, nach Schwangerschaft und Geburt wieder Stabilität\, Kraft und Vertrauen in deinen Körper zu finden. Der Kurs ist auf die Bedürfnisse nach der Geburt abgestimmt und bietet Raum für Austausch und Fragen. Dein Baby ist herzlich willkommen. Stillen\, Tragen und Pausen sind jederzeit möglich. (Ab der 8. Woche nach Geburt bzw. nach ärztlicher Abklärung) \nLeitung: Stefanie Findenig\, Gesundheitstrainerin\nTermine: Freitag ab 6.3.2026\, 10 Einheiten\nZeit: 13:30 – 14:30 Uhr\nRaum: Familienwohnzimmer 1. Stock\nBildungsscheck der VHS kann hier eingelöst werden!\nKosten & Anmeldung: Kurs Nr. 344 www.vshsstmk.at
URL:https://www.familienwohnzimmer.at/event/rueckbildungskurs/2026-05-01/
LOCATION:FamilienWohnZimmer\, Grazer Straße 3\, Kapfenberg\, Steiermark\, 8605\, Österreich
CATEGORIES:Kurse für Kinder und Eltern
ATTACH;FMTTYPE=image/jpeg:https://www.familienwohnzimmer.at/wp-content/uploads/2026/01/Babfit_AdobeStock_159882349-Kopie.jpg
END:VEVENT
BEGIN:VEVENT
DTSTART;TZID=Europe/Berlin:20260506T140000
DTEND;TZID=Europe/Berlin:20260506T163000
DTSTAMP:20260419T153909
CREATED:20250206T091122Z
LAST-MODIFIED:20260109T075414Z
UID:10000495-1778076000-1778085000@www.familienwohnzimmer.at
SUMMARY:Ernährung für ein- bis dreijährige Kinder
DESCRIPTION:Damit unsere „Kleinen“ gesund groß werden\, ist es von Bedeutung\, sie schon früh für ein vielfältiges Nahrungsangebot zu begeistern. Du möchtest bei deinem Kind die Freude an einer gesunden Ernährung und Lust am Ausprobieren wecken? In diesem Workshop bekommst du hilfreiche und praxisnahe Tipps für die Umsetzung im Familienalltag und Antworten auf Ernährungsfragen. \nKostenlos! \nAnmeldung: 0670 3552550
URL:https://www.familienwohnzimmer.at/event/gemuesetiger-ernaehrung-der-1-bis-3-jaehrigen-2/2026-05-06/
LOCATION:FamilienWohnZimmer\, Grazer Straße 3\, Kapfenberg\, Steiermark\, 8605\, Österreich
CATEGORIES:Vorträge & Workshops
ATTACH;FMTTYPE=image/jpeg:https://www.familienwohnzimmer.at/wp-content/uploads/2022/12/AdobeStock_356425645-scaled.jpg
ORGANIZER;CN="FamilienWohnZimmer":MAILTO:fawozi@isgs.at
END:VEVENT
BEGIN:VEVENT
DTSTART;TZID=Europe/Berlin:20260507T150000
DTEND;TZID=Europe/Berlin:20260507T160000
DTSTAMP:20260419T153909
CREATED:20260212T104831Z
LAST-MODIFIED:20260212T105530Z
UID:10000595-1778166000-1778169600@www.familienwohnzimmer.at
SUMMARY:Kreativgruppe mit Bastelschwerpunkt
DESCRIPTION:Du hast ein bastelbegeistertes Kind über 2\,5 Jahren? Dann seid ihr in dieser Gruppe genau richtig. \n5er Block zu gesamt 15\,- inkl. Bastelmaterial\nAnmeldung online oder 0650 6905694 \nInfos zu den genauen Terminen findest du hier https://www.familienwohnzimmer.at/eki-gruppen/kreativ-gruppe/
URL:https://www.familienwohnzimmer.at/event/kreativgruppe-mit-bestelschwerpunkt/2026-05-07/
LOCATION:FamilienWohnZimmer\, Grazer Straße 3\, Kapfenberg\, Steiermark\, 8605\, Österreich
ATTACH;FMTTYPE=image/jpeg:https://www.familienwohnzimmer.at/wp-content/uploads/2025/02/VAvorschau_basteln_AdobeStock_314728247.jpg
ORGANIZER;CN="FamilienWohnZimmer":MAILTO:fawozi@isgs.at
END:VEVENT
BEGIN:VEVENT
DTSTART;TZID=Europe/Berlin:20260508T110000
DTEND;TZID=Europe/Berlin:20260508T120000
DTSTAMP:20260419T153909
CREATED:20260211T135252Z
LAST-MODIFIED:20260211T135252Z
UID:10000570-1778238000-1778241600@www.familienwohnzimmer.at
SUMMARY:Mama-Baby-Yoga
DESCRIPTION:Durch eine achtsame\, aufbauende und spielerische Übungsreihe wird dein Baby liebevoll in deine Yogapraxis miteinbezogen – für Stressabbau und tiefe Entspannung bei Mutter und Kind.\nDu kräftigst sanft deinen Beckenboden\, löst Verspannungen\, unterstützt ein sanftes Figurtraining und findest Raum für Austausch mit anderen Müttern – getragen von Bewegungsflows\, Atemübungen und Mantren. \nLeitung: Bernadette Thamer\, Yogalehrerin\nTermine: Freitag 10.4.\, 17.4.\, 24.4.\, 8.5.\, 22.5. und 29.5.2026\nZeit: 11:00 – 12:00 Uhr\nRaum: Familienwohnzimmer 1. Stock\nKosten: € 60\,- für alle Einheiten\nAnmeldung: 0670 2022735
URL:https://www.familienwohnzimmer.at/event/mama-baby-yoga/2026-05-08/
LOCATION:FamilienWohnZimmer\, Grazer Straße 3\, Kapfenberg\, Steiermark\, 8605\, Österreich
CATEGORIES:Kurse für Kinder und Eltern
ATTACH;FMTTYPE=image/jpeg:https://www.familienwohnzimmer.at/wp-content/uploads/2026/01/Rueckb_AdobeStock_272815449-Kopie.jpg
END:VEVENT
BEGIN:VEVENT
DTSTART;TZID=Europe/Berlin:20260508T133000
DTEND;TZID=Europe/Berlin:20260508T143000
DTSTAMP:20260419T153909
CREATED:20260211T133833Z
LAST-MODIFIED:20260306T103110Z
UID:10000542-1778247000-1778250600@www.familienwohnzimmer.at
SUMMARY:Rückbildungskurs
DESCRIPTION:Hier steht die sanfte Kräftigung des Beckenbodens sowie der Bauch- und Rückenmuskulatur im Mittelpunkt. Mit gezielten Übungen\, Atemarbeit und Körperwahrnehmung unterstütze ich dich dabei\, nach Schwangerschaft und Geburt wieder Stabilität\, Kraft und Vertrauen in deinen Körper zu finden. Der Kurs ist auf die Bedürfnisse nach der Geburt abgestimmt und bietet Raum für Austausch und Fragen. Dein Baby ist herzlich willkommen. Stillen\, Tragen und Pausen sind jederzeit möglich. (Ab der 8. Woche nach Geburt bzw. nach ärztlicher Abklärung) \nLeitung: Stefanie Findenig\, Gesundheitstrainerin\nTermine: Freitag ab 6.3.2026\, 10 Einheiten\nZeit: 13:30 – 14:30 Uhr\nRaum: Familienwohnzimmer 1. Stock\nBildungsscheck der VHS kann hier eingelöst werden!\nKosten & Anmeldung: Kurs Nr. 344 www.vshsstmk.at
URL:https://www.familienwohnzimmer.at/event/rueckbildungskurs/2026-05-08/
LOCATION:FamilienWohnZimmer\, Grazer Straße 3\, Kapfenberg\, Steiermark\, 8605\, Österreich
CATEGORIES:Kurse für Kinder und Eltern
ATTACH;FMTTYPE=image/jpeg:https://www.familienwohnzimmer.at/wp-content/uploads/2026/01/Babfit_AdobeStock_159882349-Kopie.jpg
END:VEVENT
BEGIN:VEVENT
DTSTART;TZID=Europe/Berlin:20260515T110000
DTEND;TZID=Europe/Berlin:20260515T120000
DTSTAMP:20260419T153909
CREATED:20260211T135252Z
LAST-MODIFIED:20260211T135252Z
UID:10000571-1778842800-1778846400@www.familienwohnzimmer.at
SUMMARY:Mama-Baby-Yoga
DESCRIPTION:Durch eine achtsame\, aufbauende und spielerische Übungsreihe wird dein Baby liebevoll in deine Yogapraxis miteinbezogen – für Stressabbau und tiefe Entspannung bei Mutter und Kind.\nDu kräftigst sanft deinen Beckenboden\, löst Verspannungen\, unterstützt ein sanftes Figurtraining und findest Raum für Austausch mit anderen Müttern – getragen von Bewegungsflows\, Atemübungen und Mantren. \nLeitung: Bernadette Thamer\, Yogalehrerin\nTermine: Freitag 10.4.\, 17.4.\, 24.4.\, 8.5.\, 22.5. und 29.5.2026\nZeit: 11:00 – 12:00 Uhr\nRaum: Familienwohnzimmer 1. Stock\nKosten: € 60\,- für alle Einheiten\nAnmeldung: 0670 2022735
URL:https://www.familienwohnzimmer.at/event/mama-baby-yoga/2026-05-15/
LOCATION:FamilienWohnZimmer\, Grazer Straße 3\, Kapfenberg\, Steiermark\, 8605\, Österreich
CATEGORIES:Kurse für Kinder und Eltern
ATTACH;FMTTYPE=image/jpeg:https://www.familienwohnzimmer.at/wp-content/uploads/2026/01/Rueckb_AdobeStock_272815449-Kopie.jpg
END:VEVENT
BEGIN:VEVENT
DTSTART;TZID=Europe/Berlin:20260515T133000
DTEND;TZID=Europe/Berlin:20260515T143000
DTSTAMP:20260419T153909
CREATED:20260211T133833Z
LAST-MODIFIED:20260306T103110Z
UID:10000543-1778851800-1778855400@www.familienwohnzimmer.at
SUMMARY:Rückbildungskurs
DESCRIPTION:Hier steht die sanfte Kräftigung des Beckenbodens sowie der Bauch- und Rückenmuskulatur im Mittelpunkt. Mit gezielten Übungen\, Atemarbeit und Körperwahrnehmung unterstütze ich dich dabei\, nach Schwangerschaft und Geburt wieder Stabilität\, Kraft und Vertrauen in deinen Körper zu finden. Der Kurs ist auf die Bedürfnisse nach der Geburt abgestimmt und bietet Raum für Austausch und Fragen. Dein Baby ist herzlich willkommen. Stillen\, Tragen und Pausen sind jederzeit möglich. (Ab der 8. Woche nach Geburt bzw. nach ärztlicher Abklärung) \nLeitung: Stefanie Findenig\, Gesundheitstrainerin\nTermine: Freitag ab 6.3.2026\, 10 Einheiten\nZeit: 13:30 – 14:30 Uhr\nRaum: Familienwohnzimmer 1. Stock\nBildungsscheck der VHS kann hier eingelöst werden!\nKosten & Anmeldung: Kurs Nr. 344 www.vshsstmk.at
URL:https://www.familienwohnzimmer.at/event/rueckbildungskurs/2026-05-15/
LOCATION:FamilienWohnZimmer\, Grazer Straße 3\, Kapfenberg\, Steiermark\, 8605\, Österreich
CATEGORIES:Kurse für Kinder und Eltern
ATTACH;FMTTYPE=image/jpeg:https://www.familienwohnzimmer.at/wp-content/uploads/2026/01/Babfit_AdobeStock_159882349-Kopie.jpg
END:VEVENT
BEGIN:VEVENT
DTSTART;TZID=Europe/Berlin:20260521T150000
DTEND;TZID=Europe/Berlin:20260521T160000
DTSTAMP:20260419T153909
CREATED:20260212T104831Z
LAST-MODIFIED:20260212T105530Z
UID:10000596-1779375600-1779379200@www.familienwohnzimmer.at
SUMMARY:Kreativgruppe mit Bastelschwerpunkt
DESCRIPTION:Du hast ein bastelbegeistertes Kind über 2\,5 Jahren? Dann seid ihr in dieser Gruppe genau richtig. \n5er Block zu gesamt 15\,- inkl. Bastelmaterial\nAnmeldung online oder 0650 6905694 \nInfos zu den genauen Terminen findest du hier https://www.familienwohnzimmer.at/eki-gruppen/kreativ-gruppe/
URL:https://www.familienwohnzimmer.at/event/kreativgruppe-mit-bestelschwerpunkt/2026-05-21/
LOCATION:FamilienWohnZimmer\, Grazer Straße 3\, Kapfenberg\, Steiermark\, 8605\, Österreich
ATTACH;FMTTYPE=image/jpeg:https://www.familienwohnzimmer.at/wp-content/uploads/2025/02/VAvorschau_basteln_AdobeStock_314728247.jpg
ORGANIZER;CN="FamilienWohnZimmer":MAILTO:fawozi@isgs.at
END:VEVENT
BEGIN:VEVENT
DTSTART;TZID=Europe/Berlin:20260522T133000
DTEND;TZID=Europe/Berlin:20260522T143000
DTSTAMP:20260419T153909
CREATED:20260211T133833Z
LAST-MODIFIED:20260306T103110Z
UID:10000544-1779456600-1779460200@www.familienwohnzimmer.at
SUMMARY:Rückbildungskurs
DESCRIPTION:Hier steht die sanfte Kräftigung des Beckenbodens sowie der Bauch- und Rückenmuskulatur im Mittelpunkt. Mit gezielten Übungen\, Atemarbeit und Körperwahrnehmung unterstütze ich dich dabei\, nach Schwangerschaft und Geburt wieder Stabilität\, Kraft und Vertrauen in deinen Körper zu finden. Der Kurs ist auf die Bedürfnisse nach der Geburt abgestimmt und bietet Raum für Austausch und Fragen. Dein Baby ist herzlich willkommen. Stillen\, Tragen und Pausen sind jederzeit möglich. (Ab der 8. Woche nach Geburt bzw. nach ärztlicher Abklärung) \nLeitung: Stefanie Findenig\, Gesundheitstrainerin\nTermine: Freitag ab 6.3.2026\, 10 Einheiten\nZeit: 13:30 – 14:30 Uhr\nRaum: Familienwohnzimmer 1. Stock\nBildungsscheck der VHS kann hier eingelöst werden!\nKosten & Anmeldung: Kurs Nr. 344 www.vshsstmk.at
URL:https://www.familienwohnzimmer.at/event/rueckbildungskurs/2026-05-22/
LOCATION:FamilienWohnZimmer\, Grazer Straße 3\, Kapfenberg\, Steiermark\, 8605\, Österreich
CATEGORIES:Kurse für Kinder und Eltern
ATTACH;FMTTYPE=image/jpeg:https://www.familienwohnzimmer.at/wp-content/uploads/2026/01/Babfit_AdobeStock_159882349-Kopie.jpg
END:VEVENT
BEGIN:VEVENT
DTSTART;TZID=Europe/Berlin:20260529T133000
DTEND;TZID=Europe/Berlin:20260529T143000
DTSTAMP:20260419T153909
CREATED:20260211T133833Z
LAST-MODIFIED:20260306T103110Z
UID:10000614-1780061400-1780065000@www.familienwohnzimmer.at
SUMMARY:Rückbildungskurs
DESCRIPTION:Hier steht die sanfte Kräftigung des Beckenbodens sowie der Bauch- und Rückenmuskulatur im Mittelpunkt. Mit gezielten Übungen\, Atemarbeit und Körperwahrnehmung unterstütze ich dich dabei\, nach Schwangerschaft und Geburt wieder Stabilität\, Kraft und Vertrauen in deinen Körper zu finden. Der Kurs ist auf die Bedürfnisse nach der Geburt abgestimmt und bietet Raum für Austausch und Fragen. Dein Baby ist herzlich willkommen. Stillen\, Tragen und Pausen sind jederzeit möglich. (Ab der 8. Woche nach Geburt bzw. nach ärztlicher Abklärung) \nLeitung: Stefanie Findenig\, Gesundheitstrainerin\nTermine: Freitag ab 6.3.2026\, 10 Einheiten\nZeit: 13:30 – 14:30 Uhr\nRaum: Familienwohnzimmer 1. Stock\nBildungsscheck der VHS kann hier eingelöst werden!\nKosten & Anmeldung: Kurs Nr. 344 www.vshsstmk.at
URL:https://www.familienwohnzimmer.at/event/rueckbildungskurs/2026-05-29/
LOCATION:FamilienWohnZimmer\, Grazer Straße 3\, Kapfenberg\, Steiermark\, 8605\, Österreich
CATEGORIES:Kurse für Kinder und Eltern
ATTACH;FMTTYPE=image/jpeg:https://www.familienwohnzimmer.at/wp-content/uploads/2026/01/Babfit_AdobeStock_159882349-Kopie.jpg
END:VEVENT
BEGIN:VEVENT
DTSTART;TZID=Europe/Berlin:20260530T093000
DTEND;TZID=Europe/Berlin:20260530T113000
DTSTAMP:20260419T153909
CREATED:20260121T104556Z
LAST-MODIFIED:20260121T104630Z
UID:10000511-1780133400-1780140600@www.familienwohnzimmer.at
SUMMARY:Papa* Café - gemütliche (Spiel)Zeit mit deinem Kind
DESCRIPTION:Alle Papas* & Opas* aufgepasst! Spielen\, bauen\, aktiv oder gemütlich sein\, alleine oder in der Gruppe – im größten Wohnzimmer Kapfenbergs. Das Papa*-Café bietet allen Papas*/Opas* einen freien Treffpunkt unter sich\, um Kontakte mit Gleichgesinnten knüpfen zu können und Erfahrungen auszutauschen. \n€ 3\,- pro Erwachsenem inkl. 1 Kaffee\nohne Anmeldung
URL:https://www.familienwohnzimmer.at/event/papa-cafe-gemuetliche-spielzeit-mit-deinem-kind-11/2026-05-30/
LOCATION:FamilienWohnZimmer\, Grazer Straße 3\, Kapfenberg\, Steiermark\, 8605\, Österreich
ATTACH;FMTTYPE=image/jpeg:https://www.familienwohnzimmer.at/wp-content/uploads/2023/01/AdobeStock_260355791-scaled.jpg
ORGANIZER;CN="FamilienWohnZimmer":MAILTO:fawozi@isgs.at
END:VEVENT
BEGIN:VEVENT
DTSTART;TZID=Europe/Berlin:20260605T133000
DTEND;TZID=Europe/Berlin:20260605T143000
DTSTAMP:20260419T153909
CREATED:20260211T133833Z
LAST-MODIFIED:20260306T103110Z
UID:10000615-1780666200-1780669800@www.familienwohnzimmer.at
SUMMARY:Rückbildungskurs
DESCRIPTION:Hier steht die sanfte Kräftigung des Beckenbodens sowie der Bauch- und Rückenmuskulatur im Mittelpunkt. Mit gezielten Übungen\, Atemarbeit und Körperwahrnehmung unterstütze ich dich dabei\, nach Schwangerschaft und Geburt wieder Stabilität\, Kraft und Vertrauen in deinen Körper zu finden. Der Kurs ist auf die Bedürfnisse nach der Geburt abgestimmt und bietet Raum für Austausch und Fragen. Dein Baby ist herzlich willkommen. Stillen\, Tragen und Pausen sind jederzeit möglich. (Ab der 8. Woche nach Geburt bzw. nach ärztlicher Abklärung) \nLeitung: Stefanie Findenig\, Gesundheitstrainerin\nTermine: Freitag ab 6.3.2026\, 10 Einheiten\nZeit: 13:30 – 14:30 Uhr\nRaum: Familienwohnzimmer 1. Stock\nBildungsscheck der VHS kann hier eingelöst werden!\nKosten & Anmeldung: Kurs Nr. 344 www.vshsstmk.at
URL:https://www.familienwohnzimmer.at/event/rueckbildungskurs/2026-06-05/
LOCATION:FamilienWohnZimmer\, Grazer Straße 3\, Kapfenberg\, Steiermark\, 8605\, Österreich
CATEGORIES:Kurse für Kinder und Eltern
ATTACH;FMTTYPE=image/jpeg:https://www.familienwohnzimmer.at/wp-content/uploads/2026/01/Babfit_AdobeStock_159882349-Kopie.jpg
END:VEVENT
BEGIN:VEVENT
DTSTART;TZID=Europe/Berlin:20260627T093000
DTEND;TZID=Europe/Berlin:20260627T113000
DTSTAMP:20260419T153909
CREATED:20260121T104556Z
LAST-MODIFIED:20260121T104630Z
UID:10000512-1782552600-1782559800@www.familienwohnzimmer.at
SUMMARY:Papa* Café - gemütliche (Spiel)Zeit mit deinem Kind
DESCRIPTION:Alle Papas* & Opas* aufgepasst! Spielen\, bauen\, aktiv oder gemütlich sein\, alleine oder in der Gruppe – im größten Wohnzimmer Kapfenbergs. Das Papa*-Café bietet allen Papas*/Opas* einen freien Treffpunkt unter sich\, um Kontakte mit Gleichgesinnten knüpfen zu können und Erfahrungen auszutauschen. \n€ 3\,- pro Erwachsenem inkl. 1 Kaffee\nohne Anmeldung
URL:https://www.familienwohnzimmer.at/event/papa-cafe-gemuetliche-spielzeit-mit-deinem-kind-11/2026-06-27/
LOCATION:FamilienWohnZimmer\, Grazer Straße 3\, Kapfenberg\, Steiermark\, 8605\, Österreich
ATTACH;FMTTYPE=image/jpeg:https://www.familienwohnzimmer.at/wp-content/uploads/2023/01/AdobeStock_260355791-scaled.jpg
ORGANIZER;CN="FamilienWohnZimmer":MAILTO:fawozi@isgs.at
END:VEVENT
BEGIN:VEVENT
DTSTART;TZID=Europe/Berlin:20260708T160000
DTEND;TZID=Europe/Berlin:20260708T170000
DTSTAMP:20260419T153909
CREATED:20260212T110501Z
LAST-MODIFIED:20260212T110501Z
UID:10000603-1783526400-1783530000@www.familienwohnzimmer.at
SUMMARY:Do's & Don'ts für eine gute Bindung
DESCRIPTION:Ohne menschliche Nähe\, Schutz und Zuwendung kann ein Baby nicht gedeihen\, ein Neugeborenes braucht Liebe\, Geborgenheit\, Sicherheit und Schutz\, um neugierig ihre Welt entdecken zu können. Wie sieht ein guter und sicherer Bindungsaufbau aus? Welche Faktoren sind dabei ausschlaggebend und wo kann ich mich hinwenden\, sollte doch mal etwas schief laufen? \nKostenlos\nAnmeldung unter 0650 6905694
URL:https://www.familienwohnzimmer.at/event/dos-donts-fuer-eine-gute-bindung/2026-07-08/
LOCATION:FamilienWohnZimmer\, Grazer Straße 3\, Kapfenberg\, Steiermark\, 8605\, Österreich
CATEGORIES:Vorträge & Workshops
ATTACH;FMTTYPE=image/jpeg:https://www.familienwohnzimmer.at/wp-content/uploads/2025/02/Bindung_AdobeStock_166998197-Kopie.jpg
END:VEVENT
BEGIN:VEVENT
DTSTART;TZID=Europe/Berlin:20260710T090000
DTEND;TZID=Europe/Berlin:20260710T103000
DTSTAMP:20260419T153909
CREATED:20260113T125340Z
LAST-MODIFIED:20260113T125340Z
UID:10000499-1783674000-1783679400@www.familienwohnzimmer.at
SUMMARY:Gesunde Milchzähne von Anfang an
DESCRIPTION:Die ersten Zähnchen der Kinder sind für Eltern ein besonderer Moment. Damit wird nicht nur das Lächeln der Kleinen noch einmaliger\, sondern auch die Weichen für die zukünftige Zahngesundheit werden gestellt. Themen\, wie die kindgerechte Mundhygiene von Anfang an\, die Rolle der Eltern\, eine zahngesunde Ernährung oder alles zu Schnuller\, Fläschchen & Co werden in diesem Workshop besprochen. Alle Eltern sind herzlich eingeladen\, um sich Tipps und Tricks rund um die kindliche Zahngesundheit abzuholen. \nKostenlos\nAnmeldung unter 0650 6905694
URL:https://www.familienwohnzimmer.at/event/gesunde-milchzaehne-von-anfang-an-3/
LOCATION:FamilienWohnZimmer\, Grazer Straße 3\, Kapfenberg\, Steiermark\, 8605\, Österreich
ATTACH;FMTTYPE=image/jpeg:https://www.familienwohnzimmer.at/wp-content/uploads/2022/12/AdobeStock_271250116-scaled.jpg
ORGANIZER;CN="FamilienWohnZimmer":MAILTO:fawozi@isgs.at
END:VEVENT
BEGIN:VEVENT
DTSTART;TZID=Europe/Berlin:20261007T140000
DTEND;TZID=Europe/Berlin:20261007T163000
DTSTAMP:20260419T153909
CREATED:20250801T083407Z
LAST-MODIFIED:20260109T074040Z
UID:10000492-1791381600-1791390600@www.familienwohnzimmer.at
SUMMARY:Ernährung in der Schwangerschaft und Stillzeit
DESCRIPTION:Werdende Mütter und Väter erfahren in diesem Workshop alles Wissenswerte rund um das Thema „Ernährung in der Schwangerschaft und Stillzeit“ – denn die Grundsteine für einen gesunden Lebensstil werden bereits in der Schwangerschaft gelegt. Details hier. \nKostenlos \nAnmeldung: 0670 3552550
URL:https://www.familienwohnzimmer.at/event/ernaehrung-in-der-schwangerschaft-und-stillzeit-3/2026-10-07/
LOCATION:FamilienWohnZimmer\, Grazer Straße 3\, Kapfenberg\, Steiermark\, 8605\, Österreich
CATEGORIES:Vorträge & Workshops
ATTACH;FMTTYPE=image/jpeg:https://www.familienwohnzimmer.at/wp-content/uploads/2022/11/AdobeStock_316842942-scaled.jpg
ORGANIZER;CN="Richtig essen von Anfang an%2C Julia Meierhofer%2C Di%C3%A4tologin":MAILTO:julia@nahrungsvoll.at
END:VEVENT
BEGIN:VEVENT
DTSTART;TZID=Europe/Berlin:20261104T140000
DTEND;TZID=Europe/Berlin:20261104T163000
DTSTAMP:20260419T153909
CREATED:20240725T103738Z
LAST-MODIFIED:20260109T073457Z
UID:10000491-1793800800-1793809800@www.familienwohnzimmer.at
SUMMARY:Ernährung im 1. Lebensjahr & Beikost
DESCRIPTION:Nach den ersten Lebensmonaten genügen fürs Baby Muttermilch oder Fläschchen allein nicht mehr: Die Zeit für den ersten Brei ist gekommen! Alles rund ums Thema Beikost inkl. konkreten Tipps für die Zubereitung. \nKostenlos!\nAnmeldung: 0670 3552550 \n 
URL:https://www.familienwohnzimmer.at/event/babys-erstes-loeffelchen-2/2026-11-04/
LOCATION:FamilienWohnZimmer\, Grazer Straße 3\, Kapfenberg\, Steiermark\, 8605\, Österreich
ATTACH;FMTTYPE=image/jpeg:https://www.familienwohnzimmer.at/wp-content/uploads/2022/12/AdobeStock_84134860-scaled.jpg
ORGANIZER;CN="FamilienWohnZimmer":MAILTO:fawozi@isgs.at
END:VEVENT
BEGIN:VEVENT
DTSTART;TZID=Europe/Berlin:20261202T140000
DTEND;TZID=Europe/Berlin:20261202T163000
DTSTAMP:20260419T153909
CREATED:20250206T091122Z
LAST-MODIFIED:20260109T075414Z
UID:10000496-1796220000-1796229000@www.familienwohnzimmer.at
SUMMARY:Ernährung für ein- bis dreijährige Kinder
DESCRIPTION:Damit unsere „Kleinen“ gesund groß werden\, ist es von Bedeutung\, sie schon früh für ein vielfältiges Nahrungsangebot zu begeistern. Du möchtest bei deinem Kind die Freude an einer gesunden Ernährung und Lust am Ausprobieren wecken? In diesem Workshop bekommst du hilfreiche und praxisnahe Tipps für die Umsetzung im Familienalltag und Antworten auf Ernährungsfragen. \nKostenlos! \nAnmeldung: 0670 3552550
URL:https://www.familienwohnzimmer.at/event/gemuesetiger-ernaehrung-der-1-bis-3-jaehrigen-2/2026-12-02/
LOCATION:FamilienWohnZimmer\, Grazer Straße 3\, Kapfenberg\, Steiermark\, 8605\, Österreich
CATEGORIES:Vorträge & Workshops
ATTACH;FMTTYPE=image/jpeg:https://www.familienwohnzimmer.at/wp-content/uploads/2022/12/AdobeStock_356425645-scaled.jpg
ORGANIZER;CN="FamilienWohnZimmer":MAILTO:fawozi@isgs.at
END:VEVENT
END:VCALENDAR